BEGIN:VCALENDAR
VERSION:2.0
PRODID:-//ChamberMaster//Event Calendar 2.0//EN
METHOD:PUBLISH
X-PUBLISHED-TTL:P3D
REFRESH-INTERVAL:P3D
CALSCALE:GREGORIAN
BEGIN:VEVENT
DTSTART:20190913T163000Z
DTEND:20190913T173000Z
X-MICROSOFT-CDO-ALLDAYEVENT:FALSE
SUMMARY:Foodie Friday: Hereford House
DESCRIPTION:Have you ever been part of a "Lunch Mob"? This is our version. Members and their guests are invited to join us for this informal lunch gathering to enjoy a great meal\, some networking and patronize a valued chamber member.
X-ALT-DESC;FMTTYPE=text/html:<p style="margin-top:0in\;margin-right:0in\;margin-bottom:7.5pt\;margin-left:0in\;\nbackground:white"><span style="font-size:15.0pt\;font-family:&quot\;Arial&quot\;\,sans-serif\;\ncolor:#5B5E5E">Have you ever been part of a &quot\;Lunch Mob&quot\;? This is our version. Members and their guests are invited to join us for this informal lunch gathering to enjoy a great meal\, some networking and patronize a valued chamber member.<br />\n<br />\n<br />\n<o:p></o:p></span></p>\n
LOCATION:19721 E Jackson Dr Independence MO 64057
UID:e.2043.9946
SEQUENCE:3
DTSTAMP:20260425T031222Z
URL:https://business.ichamber.biz/events/details/foodie-friday-hereford-house-9946
END:VEVENT

END:VCALENDAR
