BEGIN:VCALENDAR
VERSION:2.0
PRODID:-//ChamberMaster//Event Calendar 2.0//EN
METHOD:PUBLISH
X-PUBLISHED-TTL:P3D
REFRESH-INTERVAL:P3D
CALSCALE:GREGORIAN
BEGIN:VEVENT
DTSTART:20200731T153000Z
DTEND:20200801T033000Z
X-MICROSOFT-CDO-ALLDAYEVENT:FALSE
SUMMARY:Foodie Friday: Hi-Boy
DESCRIPTION:Join the Chamber in supporting our member\, Hi-Boy! They are open for drive-through orders only from 10:30am-10:30pm. Make sure you share your pictures with us on Facebook!
X-ALT-DESC;FMTTYPE=text/html:<span style="font-family: Oxygen\, Arial\, &quot\;Helvetica Neue&quot\;\, Helvetica\, sans-serif\; font-size: 16px\;">Join the Chamber in supporting our member\, Hi-Boy! They are open for drive-through orders only from 10:30am-10:30pm. Make sure you share your pictures with us on Facebook!</span>
LOCATION:924 W US Hwy 24\, Independence\, MO 64050
UID:e.2043.12925
SEQUENCE:3
DTSTAMP:20260425T125945Z
URL:https://business.ichamber.biz/events/details/foodie-friday-hi-boy-07-31-2020-12925
END:VEVENT

END:VCALENDAR
