BEGIN:VCALENDAR
VERSION:2.0
PRODID:-//ChamberMaster//Event Calendar 2.0//EN
METHOD:PUBLISH
X-PUBLISHED-TTL:P3D
REFRESH-INTERVAL:P3D
CALSCALE:GREGORIAN
BEGIN:VEVENT
DTSTART:20190920T163000Z
DTEND:20190920T173000Z
X-MICROSOFT-CDO-ALLDAYEVENT:FALSE
SUMMARY:Foodie Friday: Hi-Boy
DESCRIPTION:Have you ever been part of a "Lunch Mob"? This is our version. Members and their guests are invited to join us for this informal lunch gathering to enjoy a great meal\, some networking and patronize a valued chamber member.\n\nPlease register so we can give the restaurant a heads up!
X-ALT-DESC;FMTTYPE=text/html:<span style="box-sizing: border-box\; outline: 0px\; color: rgb(91\, 94\, 94)\; font-family: Arial\, sans-serif\; font-size: 20px\;">Have you ever been part of a &quot\;Lunch Mob&quot\;? This is our version. Members and their guests are invited to join us for this informal lunch gathering to enjoy a great meal\, some networking and patronize a valued chamber member.</span><br style="box-sizing: border-box\; color: rgb(91\, 94\, 94)\; font-family: Arial\, sans-serif\; font-size: 20px\; outline: none !important\;" />\n<span style="box-sizing: border-box\; color: rgb(91\, 94\, 94)\; font-family: Arial\, sans-serif\; font-size: 20px\; outline: none !important\;">Please register so we can give the restaurant a heads up!</span>
LOCATION:924 W US Hwy 24\, Independence\, MO 64050
UID:e.2043.9944
SEQUENCE:3
DTSTAMP:20260425T032126Z
URL:https://business.ichamber.biz/events/details/foodie-friday-hi-boy-9944
END:VEVENT

END:VCALENDAR
