BEGIN:VCALENDAR
VERSION:2.0
PRODID:-//ChamberMaster//Event Calendar 2.0//EN
METHOD:PUBLISH
X-PUBLISHED-TTL:P3D
REFRESH-INTERVAL:P3D
CALSCALE:GREGORIAN
BEGIN:VEVENT
DTSTART:20191011T163000Z
DTEND:20191011T180000Z
X-MICROSOFT-CDO-ALLDAYEVENT:FALSE
SUMMARY:Foodie Friday: Islamorada Fish Company
DESCRIPTION:Have you ever been part of a "Lunch Mob"? This is our version. Members and their guests are invited to join us for this informal lunch gathering to enjoy a great meal\, some networking and patronize a valued chamber member.\n\nPlease register so we can give the restaurant a heads up!
X-ALT-DESC;FMTTYPE=text/html:<span style="color: rgb(91\, 94\, 94)\; font-family: Arial\, sans-serif\; font-size: 20px\; background-color: rgb(255\, 255\, 255)\;">Have you ever been part of a &quot\;Lunch Mob&quot\;? This is our version. Members and their guests are invited to join us for this informal lunch gathering to enjoy a great meal\, some networking and patronize a valued chamber member.</span><br style="color: rgb(91\, 94\, 94)\; font-family: Arial\, sans-serif\; font-size: 20px\; background-color: rgb(255\, 255\, 255)\;" />\n<span style="color: rgb(91\, 94\, 94)\; font-family: Arial\, sans-serif\; font-size: 20px\; background-color: rgb(255\, 255\, 255)\;">Please register so we can give the restaurant a heads up!</span>
LOCATION:18001 Bass Pro Dr\, Independence\, MO 64055
UID:e.2043.11580
SEQUENCE:3
DTSTAMP:20260425T040503Z
URL:https://business.ichamber.biz/events/details/foodie-friday-islamorada-fish-company-11580
END:VEVENT

END:VCALENDAR
