BEGIN:VCALENDAR
VERSION:2.0
PRODID:-//ChamberMaster//Event Calendar 2.0//EN
METHOD:PUBLISH
X-PUBLISHED-TTL:P3D
REFRESH-INTERVAL:P3D
CALSCALE:GREGORIAN
BEGIN:VEVENT
DTSTART:20200626T153000Z
DTEND:20200627T020000Z
X-MICROSOFT-CDO-ALLDAYEVENT:FALSE
SUMMARY:Foodie Friday: Jimmy John's
DESCRIPTION:Join the Chamber in supporting our member\, Jimmy John's! They are open for delivery\, drive-thru or pick up from 10:30am-9pm. Make sure you share your pictures with us on Facebook!
X-ALT-DESC;FMTTYPE=text/html:<span style="color: rgb(51\, 51\, 51)\; font-family: sans-serif\, Arial\, Verdana\, &quot\;Trebuchet MS&quot\;\; font-size: 13px\; background-color: rgb(255\, 255\, 255)\;">Join the Chamber in supporting our member\, Jimmy John&#39\;s! They are open for delivery\, drive-thru or pick up from 10:30am-9pm. Make sure you share your pictures with us on Facebook!&nbsp\;</span>
LOCATION:3601 S Noland Rd Independence MO 64055
UID:e.2043.12900
SEQUENCE:3
DTSTAMP:20260425T115900Z
URL:https://business.ichamber.biz/events/details/foodie-friday-jimmy-john-s-12900
END:VEVENT

END:VCALENDAR
