BEGIN:VCALENDAR
VERSION:2.0
PRODID:-//ChamberMaster//Event Calendar 2.0//EN
METHOD:PUBLISH
X-PUBLISHED-TTL:P3D
REFRESH-INTERVAL:P3D
CALSCALE:GREGORIAN
BEGIN:VEVENT
DTSTART:20180921T163000Z
DTEND:20180921T190000Z
X-MICROSOFT-CDO-ALLDAYEVENT:FALSE
SUMMARY:Foodie Friday: Lion's Choice
DESCRIPTION:Have you ever been part of a "Lunch Mob"? This is our version. Members and their guests are invited to join us for this informal lunch gathering to enjoy a great meal\, some networking and patronize a valued chamber member.\n\n\n\nAfter getting your food from the food truck please come into the chamber and enjoy lunch in the board room.
X-ALT-DESC;FMTTYPE=text/html:<p style="margin-top:0in\;margin-right:0in\;margin-bottom:7.5pt\;margin-left:0in\;\nbackground:white"><span style="font-size:15.0pt\;font-family:&quot\;Arial&quot\;\,sans-serif\;\ncolor:#5B5E5E">Have you ever been part of a &quot\;Lunch Mob&quot\;? This is our version. Members and their guests are invited to join us for this informal lunch gathering to enjoy a great meal\, some networking and patronize a valued chamber member.<br />\n<br />\nAfter getting your food from the food truck please come into the chamber and enjoy lunch in the board room.<o:p></o:p></span></p>\n
LOCATION:Food Truck at the Chamber 210 W Truman Rd Independence MO 64050
UID:e.2043.8421
SEQUENCE:3
DTSTAMP:20260424T120239Z
URL:https://business.ichamber.biz/events/details/foodie-friday-lion-s-choice-8421
END:VEVENT

END:VCALENDAR
