BEGIN:VCALENDAR
VERSION:2.0
PRODID:-//ChamberMaster//Event Calendar 2.0//EN
METHOD:PUBLISH
X-PUBLISHED-TTL:P3D
REFRESH-INTERVAL:P3D
CALSCALE:GREGORIAN
BEGIN:VEVENT
DTSTART:20200619T160000Z
DTEND:20200620T030000Z
X-MICROSOFT-CDO-ALLDAYEVENT:FALSE
SUMMARY:Foodie Friday: Old Chicago
DESCRIPTION:Join the Chamber in supporting our member\, Old Chicago! They are open for  carryout and dine-in (with limited capacity) from 11am-10pm. Make sure you share your pictures with us on Facebook!
X-ALT-DESC;FMTTYPE=text/html:<span style="font-family: Oxygen\, Arial\, &quot\;Helvetica Neue&quot\;\, Helvetica\, sans-serif\; font-size: 16px\;">Join the Chamber in supporting our member\, Old Chicago! They are open for&nbsp\; carryout and dine-in (with limited capacity) from 11am-10pm. Make sure you share your pictures with us on Facebook!</span>
LOCATION:4661 S Cochise Ct\, Independence\, MO 64055
UID:e.2043.12901
SEQUENCE:3
DTSTAMP:20260425T115754Z
URL:https://business.ichamber.biz/events/details/foodie-friday-old-chicago-12901
END:VEVENT

END:VCALENDAR
