BEGIN:VCALENDAR
VERSION:2.0
PRODID:-//ChamberMaster//Event Calendar 2.0//EN
METHOD:PUBLISH
X-PUBLISHED-TTL:P3D
REFRESH-INTERVAL:P3D
CALSCALE:GREGORIAN
BEGIN:VEVENT
DTSTART:20180831T163000Z
DTEND:20180831T173000Z
X-MICROSOFT-CDO-ALLDAYEVENT:FALSE
SUMMARY:Foodie Friday: SantaCaliGon
DESCRIPTION:SantaCaliGon will be in full swing!\n\nCome to the Historic Independence Square and check out over 70 food booths.\n\nEnjoy all your favorite fair food such as burgers\, pulled pork sandwiches\, and corndogs along with more exotic food like greek food and poke bowls.
X-ALT-DESC;FMTTYPE=text/html:<p style="margin-top:0in\;margin-right:0in\;margin-bottom:7.5pt\;margin-left:0in\;\nbackground:white"><font color="#5b5e5e" face="Arial\, sans-serif"><span style="font-size: 20px\;">SantaCaliGon will be in full swing!<br />\nCome to the Historic Independence Square and check out over 70 food booths.<br />\nEnjoy&nbsp\;all your favorite fair food such as burgers\, pulled pork sandwiches\, and corndogs along with more exotic&nbsp\;food like greek food and poke bowls.</span></font></p>\n
LOCATION:Historic Independence Square
UID:e.2043.8436
SEQUENCE:3
DTSTAMP:20260424T103552Z
URL:https://business.ichamber.biz/events/details/foodie-friday-santacaligon-8436
END:VEVENT

END:VCALENDAR
