BEGIN:VCALENDAR
VERSION:2.0
PRODID:-//ChamberMaster//Event Calendar 2.0//EN
METHOD:PUBLISH
X-PUBLISHED-TTL:P3D
REFRESH-INTERVAL:P3D
CALSCALE:GREGORIAN
BEGIN:VEVENT
DTSTART:20200515T150000Z
DTEND:20200516T030000Z
X-MICROSOFT-CDO-ALLDAYEVENT:FALSE
SUMMARY:Foodie Friday: Sarpino's Pizzeria
DESCRIPTION:Join the Chamber in supporting our member Sarpino's Pizzeria! They have delivery and curbside pickup available form 10AM to 3AM.
X-ALT-DESC;FMTTYPE=text/html:Join the Chamber in supporting our member Sarpino&#39\;s Pizzeria! They have delivery and curbside pickup available form 10AM to 3AM.&nbsp\;
LOCATION:17020 E US Hwy 40 Suite 12\, Independence\, MO 64055 or call (816) 581-2000 to order delivery!
UID:e.2043.12877
SEQUENCE:3
DTSTAMP:20260425T104848Z
URL:https://business.ichamber.biz/events/details/foodie-friday-sarpino-s-pizzeria-12877
END:VEVENT

END:VCALENDAR
