BEGIN:VCALENDAR
VERSION:2.0
PRODID:-//ChamberMaster//Event Calendar 2.0//EN
METHOD:PUBLISH
X-PUBLISHED-TTL:P3D
REFRESH-INTERVAL:P3D
CALSCALE:GREGORIAN
BEGIN:VEVENT
DTSTART:20200724T160000Z
DTEND:20200725T030000Z
X-MICROSOFT-CDO-ALLDAYEVENT:FALSE
SUMMARY:Foodie Friday: Smokehouse BBQ
DESCRIPTION:Join the Chamber in supporting our member\, Smokehouse Barbecue! They are open for  carryout and dine-in from 11am-10pm. Make sure you share your pictures with us on Facebook!
X-ALT-DESC;FMTTYPE=text/html:<span style="color: rgb(51\, 51\, 51)\; font-family: Oxygen\, Arial\, &quot\;Helvetica Neue&quot\;\, Helvetica\, sans-serif\; font-size: 16px\; background-color: rgb(255\, 255\, 255)\;">Join the Chamber in supporting our member\, Smokehouse Barbecue! They are open for&nbsp\; carryout and dine-in from 11am-10pm. Make sure you share your pictures with us on Facebook!</span>
LOCATION:
UID:e.2043.12923
SEQUENCE:3
DTSTAMP:20260425T131055Z
URL:https://business.ichamber.biz/events/details/foodie-friday-smokehouse-bbq-12923
END:VEVENT

END:VCALENDAR
