BEGIN:VCALENDAR
VERSION:2.0
PRODID:-//ChamberMaster//Event Calendar 2.0//EN
METHOD:PUBLISH
X-PUBLISHED-TTL:P3D
REFRESH-INTERVAL:P3D
CALSCALE:GREGORIAN
BEGIN:VEVENT
DTSTART:20200717T170000Z
DTEND:20200718T010000Z
X-MICROSOFT-CDO-ALLDAYEVENT:FALSE
SUMMARY:Foodie Friday: Square Pizza
DESCRIPTION:Join the Chamber in supporting our member\, Square Pizza! They are open for carryout or delivery (on DoorDash!) from noon to 8pm. Make sure you share your pictures with us on Facebook!
X-ALT-DESC;FMTTYPE=text/html:<span style="color: rgb(51\, 51\, 51)\; font-family: Oxygen\, Arial\, &quot\;Helvetica Neue&quot\;\, Helvetica\, sans-serif\; font-size: 16px\; background-color: rgb(255\, 255\, 255)\;">Join the Chamber in supporting our member\, Square Pizza! They are open for carryout or delivery (on DoorDash!) from noon to 8pm. Make sure you share your pictures with us on Facebook!</span>
LOCATION:208 W. Maple Ave. Independence MO 64050
UID:e.2043.12924
SEQUENCE:3
DTSTAMP:20260425T125354Z
URL:https://business.ichamber.biz/events/details/foodie-friday-square-pizza-12924
END:VEVENT

END:VCALENDAR
