BEGIN:VCALENDAR
VERSION:2.0
PRODID:-//ChamberMaster//Event Calendar 2.0//EN
METHOD:PUBLISH
X-PUBLISHED-TTL:P3D
REFRESH-INTERVAL:P3D
CALSCALE:GREGORIAN
BEGIN:VEVENT
DTSTART:20190426T163000Z
DTEND:20190426T173000Z
X-MICROSOFT-CDO-ALLDAYEVENT:FALSE
SUMMARY:Foodie Friday: Terra Health and Wellness
DESCRIPTION:Have you ever been part of a "Lunch Mob"? This is our version. Members and their guests are invited to join us for this informal lunch gathering to enjoy a great meal\, some networking and patronize a valued chamber member.\n\nPlease register so we can give the restaurant a heads up!\n\n\n\nTerra will be raffling off a gift card to Foodie Friday attendees at 12:00! Don't miss your chance to win! Bring your business card to enter.
X-ALT-DESC;FMTTYPE=text/html:<span style="color: rgb(91\, 94\, 94)\; font-family: Arial\, sans-serif\; font-size: 20px\;">Have you ever been part of a &quot\;Lunch Mob&quot\;? This is our version. Members and their guests are invited to join us for this informal lunch gathering to enjoy a great meal\, some networking and patronize a valued chamber member.</span><br style="box-sizing: border-box\; color: rgb(91\, 94\, 94)\; font-family: Arial\, sans-serif\; font-size: 20px\;" />\n<span style="color: rgb(91\, 94\, 94)\; font-family: Arial\, sans-serif\; font-size: 20px\;">Please register so we can give the restaurant a heads up!<br />\n<br />\nTerra will be raffling off a gift card to Foodie Friday attendees at 12:00! Don&#39\;t miss your chance to win! Bring your business card to enter.&nbsp\;</span>
LOCATION:19800 E Jackson Dr\, Independence\, MO 64057
UID:e.2043.9498
SEQUENCE:3
DTSTAMP:20260424T212123Z
URL:https://business.ichamber.biz/events/details/foodie-friday-terra-health-and-wellness-9498
END:VEVENT

END:VCALENDAR
