BEGIN:VCALENDAR
VERSION:2.0
PRODID:-//ChamberMaster//Event Calendar 2.0//EN
METHOD:PUBLISH
X-PUBLISHED-TTL:P3D
REFRESH-INTERVAL:P3D
CALSCALE:GREGORIAN
BEGIN:VEVENT
DTSTART:20180314T150000Z
DTEND:20180314T160000Z
X-MICROSOFT-CDO-ALLDAYEVENT:FALSE
SUMMARY:Golf Committee Meeting
DESCRIPTION:The first meeting of the Golf Committee.\n\nThis committee will plan and execute the Chamber Golf Classic that will take place on Friday\, May 18th. Including event day activities and logistics\, food/beverage\, 50/50 raffle\, gifts\, games\, volunteer coordinator\, promote\, sell sponsorships\, obtain players\, and execute tournament day.
X-ALT-DESC;FMTTYPE=text/html:The first meeting of the Golf Committee.<br />\nThis committee will plan and execute the Chamber Golf Classic that will take place on Friday\, May 18th. Including event day activities and logistics\, food/beverage\, 50/50 raffle\, gifts\, games\, volunteer coordinator\, promote\, sell sponsorships\, obtain players\, and execute tournament day.
LOCATION:Chamber 210 W Truman Rd. Independence MO 64050
UID:e.2043.6253
SEQUENCE:3
DTSTAMP:20260424T044852Z
URL:https://business.ichamber.biz/events/details/golf-committee-meeting-6253
END:VEVENT

END:VCALENDAR
