BEGIN:VCALENDAR
VERSION:2.0
PRODID:-//ChamberMaster//Event Calendar 2.0//EN
METHOD:PUBLISH
X-PUBLISHED-TTL:P3D
REFRESH-INTERVAL:P3D
CALSCALE:GREGORIAN
BEGIN:VEVENT
DTSTART:20170421T153000Z
DTEND:20170421T163000Z
X-MICROSOFT-CDO-ALLDAYEVENT:FALSE
SUMMARY:Grand Opening and Ribbon Cutting Ceremony for Great Circle
DESCRIPTION:Please join us for the Grand Opening and Ribbon Cutting Ceremony for Great Circle!
X-ALT-DESC;FMTTYPE=text/html:Please join us for the Grand Opening and Ribbon Cutting Ceremony&nbsp\;for Great Circle!&nbsp\;
LOCATION:18610 East 37th Terrace South Independence\, MO 64057
UID:e.2043.4314
SEQUENCE:3
DTSTAMP:20260424T164618Z
URL:https://business.ichamber.biz/events/details/grand-opening-and-ribbon-cutting-ceremony-for-great-circle-04-21-2017-4314
END:VEVENT

END:VCALENDAR
