BEGIN:VCALENDAR
VERSION:2.0
PRODID:-//ChamberMaster//Event Calendar 2.0//EN
METHOD:PUBLISH
X-PUBLISHED-TTL:P3D
REFRESH-INTERVAL:P3D
CALSCALE:GREGORIAN
BEGIN:VEVENT
DTSTART:20240815T170000Z
DTEND:20240815T180000Z
X-MICROSOFT-CDO-ALLDAYEVENT:FALSE
SUMMARY:Grand Opening & Ribbon Cutting for Adirondack Apartments
DESCRIPTION:Please join us to celebrate the Grand Opening & Ribbon Cutting ceremony for Adirondack Apartments!\n\n\n\n*Ribbon Cutting ceremony at 12:15 p.m.\n\n*CEO speaking\n\n*Property tours\n\n*Lunch/refreshments\n\n*Networking\n\n\n\nDiscover a life of luxury at the Adirondack Apartments in Independence\, Missouri. The brand-new 1 and 2 bedroom apartments and townhomes are equipped with upscale apartment amenities. From a resort-style swimming pool with tanning ledges to stylish custom cabinetry and stainless steel appliances\, you will have everything you need to relax\, entertain guests\, and live the life you want.
X-ALT-DESC;FMTTYPE=text/html:<br />\n<span style="font-family:arial\;"><span style="font-size:14px\;">Please join us to celebrate the <strong>Grand Opening &amp\; Ribbon Cutting ceremony for Adirondack Apartments!</strong><br />\n<br />\n*Ribbon Cutting ceremony at 12:15 p.m.<br />\n*CEO speaking<br />\n*Property tours<br />\n*Lunch/refreshments<br />\n*Networking<br />\n<br />\nDiscover a life of luxury at the Adirondack Apartments in Independence\, Missouri. The brand-new 1 and 2 bedroom apartments and townhomes are equipped with upscale apartment amenities. From a resort-style swimming pool with tanning ledges to stylish custom cabinetry and stainless steel appliances\, you will have everything you need to relax\, entertain guests\, and live the life you want.</span></span><br />\n<br />\n&nbsp\;
LOCATION:Adirondack Apartments 4580 Bass Pro Drive Independence\, MO 64055
UID:e.2043.16477
SEQUENCE:3
DTSTAMP:20260425T152725Z
URL:https://business.ichamber.biz/events/details/grand-opening-ribbon-cutting-for-adirondack-apartments-16477
END:VEVENT

END:VCALENDAR
