BEGIN:VCALENDAR
VERSION:2.0
PRODID:-//ChamberMaster//Event Calendar 2.0//EN
METHOD:PUBLISH
X-PUBLISHED-TTL:P3D
REFRESH-INTERVAL:P3D
CALSCALE:GREGORIAN
BEGIN:VEVENT
DTSTART:20190801T210000Z
DTEND:20190801T220000Z
X-MICROSOFT-CDO-ALLDAYEVENT:FALSE
SUMMARY:Grand Opening & Ribbon Cutting for Any Lab Test Now
DESCRIPTION:Please join us for the Grand Opening & Ribbon Cutting for Any Lab Test Now! Cookies and punch will be provided\, and there will be an opportunity to win tickets to the Sporting KC game on August 10th\, as well as a couple of opportunities to win free B12 shots!
X-ALT-DESC;FMTTYPE=text/html:Please join us for the Grand Opening &amp\; Ribbon Cutting for Any Lab Test Now! Cookies and punch will be provided\, and there will be an opportunity to win tickets to the Sporting KC game on August 10th\, as well as a couple of opportunities to win free B12 shots!&nbsp\;
LOCATION:
UID:e.2043.9887
SEQUENCE:3
DTSTAMP:20260425T021925Z
URL:https://business.ichamber.biz/events/details/grand-opening-ribbon-cutting-for-any-lab-test-now-9887
END:VEVENT

END:VCALENDAR
