BEGIN:VCALENDAR
VERSION:2.0
PRODID:-//ChamberMaster//Event Calendar 2.0//EN
METHOD:PUBLISH
X-PUBLISHED-TTL:P3D
REFRESH-INTERVAL:P3D
CALSCALE:GREGORIAN
BEGIN:VEVENT
DTSTART:20190521T210000Z
DTEND:20190521T230000Z
X-MICROSOFT-CDO-ALLDAYEVENT:FALSE
SUMMARY:Grand Opening & Ribbon Cutting for Blue Ridge Bank on the Square
DESCRIPTION:Join us for a Ribbon Cutting for the new Blue Ridge Bank branch on the Independence Square!
X-ALT-DESC;FMTTYPE=text/html:<span style="font-size:14px\;"><span style="font-family:arial\;">Join us for a Ribbon Cutting for the new Blue Ridge Bank branch on the Independence Square!</span></span>
LOCATION:201 W. Lexington Independence\, MO 64050
UID:e.2043.9488
SEQUENCE:3
DTSTAMP:20260424T224040Z
URL:https://business.ichamber.biz/events/details/grand-opening-ribbon-cutting-for-blue-ridge-bank-on-the-square-9488
END:VEVENT

END:VCALENDAR
