BEGIN:VCALENDAR
VERSION:2.0
PRODID:-//ChamberMaster//Event Calendar 2.0//EN
METHOD:PUBLISH
X-PUBLISHED-TTL:P3D
REFRESH-INTERVAL:P3D
CALSCALE:GREGORIAN
BEGIN:VEVENT
DTSTART:20180920T210000Z
DTEND:20180920T220000Z
X-MICROSOFT-CDO-ALLDAYEVENT:FALSE
SUMMARY:Grand Opening & Ribbon Cutting for Bryan Hunter Farmers Agency
DESCRIPTION:Don't miss the Grand Opening and Ribbon Cutting ceremony for The Bryan Hunter Farmers Agency!
X-ALT-DESC;FMTTYPE=text/html:<div>Don&#39\;t miss the Grand Opening and Ribbon Cutting ceremony for&nbsp\;The Bryan Hunter Farmers Agency!&nbsp\;</div>\n
LOCATION:2866 E 291 Hwy\, Suite E
UID:e.2043.8426
SEQUENCE:3
DTSTAMP:20260424T120356Z
URL:https://business.ichamber.biz/events/details/grand-opening-ribbon-cutting-for-bryan-hunter-farmers-agency-8426
END:VEVENT

END:VCALENDAR
