BEGIN:VCALENDAR
VERSION:2.0
PRODID:-//ChamberMaster//Event Calendar 2.0//EN
METHOD:PUBLISH
X-PUBLISHED-TTL:P3D
REFRESH-INTERVAL:P3D
CALSCALE:GREGORIAN
BEGIN:VEVENT
DTSTART:20190516T210000Z
DTEND:20190516T220000Z
X-MICROSOFT-CDO-ALLDAYEVENT:FALSE
SUMMARY:Grand Opening & Ribbon Cutting for Cedarhurst Senior Living
DESCRIPTION:We hope you can join us for the Grand Opening and Ribbon Cutting ceremony for Cedarhurst Senior Living! \n\n*Ribbon Cutting ceremony will begin at 4:15pm
X-ALT-DESC;FMTTYPE=text/html:<div>We hope you can join us for&nbsp\;the Grand Opening and Ribbon Cutting ceremony for Cedarhurst Senior Living!&nbsp\;<br />\n*Ribbon Cutting ceremony will begin&nbsp\;at 4:15pm</div>\n
LOCATION:20551 E. Trinity Place Blue Springs\, MO 64015
UID:e.2043.8783
SEQUENCE:3
DTSTAMP:20260424T224350Z
URL:https://business.ichamber.biz/events/details/grand-opening-ribbon-cutting-for-cedarhurst-senior-living-8783
END:VEVENT

END:VCALENDAR
