BEGIN:VCALENDAR
VERSION:2.0
PRODID:-//ChamberMaster//Event Calendar 2.0//EN
METHOD:PUBLISH
X-PUBLISHED-TTL:P3D
REFRESH-INTERVAL:P3D
CALSCALE:GREGORIAN
BEGIN:VEVENT
DTSTART:20180909T180000Z
DTEND:20180909T190000Z
X-MICROSOFT-CDO-ALLDAYEVENT:FALSE
SUMMARY:Grand Opening & Ribbon Cutting for Church of the Four Corners
DESCRIPTION:Please join us to celebrate the Grand Opening & Ribbon Cutting ceremony for Church of the Four Corners and help us welcome them into their new home on 40 highway!
X-ALT-DESC;FMTTYPE=text/html:<span style="font-size:14px\;"><span style="font-family:arial\;">Please join us to celebrate the Grand Opening &amp\; Ribbon Cutting ceremony for Church of the Four Corners and help us welcome them into their new home on 40 highway!&nbsp\;</span></span><br />\n&nbsp\;
LOCATION:Church of the Four Corners 14300 E US Hwy 40\, Kansas City\, MO 64136
UID:e.2043.8407
SEQUENCE:3
DTSTAMP:20260424T120412Z
URL:https://business.ichamber.biz/events/details/grand-opening-ribbon-cutting-for-church-of-the-four-corners-8407
END:VEVENT

END:VCALENDAR
