BEGIN:VCALENDAR
VERSION:2.0
PRODID:-//ChamberMaster//Event Calendar 2.0//EN
METHOD:PUBLISH
X-PUBLISHED-TTL:P3D
REFRESH-INTERVAL:P3D
CALSCALE:GREGORIAN
BEGIN:VEVENT
DTSTART:20181128T160000Z
DTEND:20181128T170000Z
X-MICROSOFT-CDO-ALLDAYEVENT:FALSE
SUMMARY:Grand Opening & Ribbon Cutting for Lion's Choice
DESCRIPTION:We hope you can join us for the Grand Opening and Ribbon Cutting ceremony for Lion's Choice! Help us welcome them to Independence\, sample delicious Lion's Choice originals\, and celebrate with us!
X-ALT-DESC;FMTTYPE=text/html:<div>We hope you can join us for&nbsp\;the Grand Opening and Ribbon Cutting ceremony for Lion&#39\;s Choice! Help us welcome&nbsp\;them to Independence\, sample delicious Lion&#39\;s Choice originals\, and celebrate with us!&nbsp\;</div>\n
LOCATION:4045 Little Blue Pkwy Independence\, MO 64057
UID:e.2043.8781
SEQUENCE:3
DTSTAMP:20260424T144635Z
URL:https://business.ichamber.biz/events/details/grand-opening-ribbon-cutting-for-lion-s-choice-8781
END:VEVENT

END:VCALENDAR
