BEGIN:VCALENDAR
VERSION:2.0
PRODID:-//ChamberMaster//Event Calendar 2.0//EN
METHOD:PUBLISH
X-PUBLISHED-TTL:P3D
REFRESH-INTERVAL:P3D
CALSCALE:GREGORIAN
BEGIN:VEVENT
DTSTART:20180504T170000Z
DTEND:20180504T180000Z
X-MICROSOFT-CDO-ALLDAYEVENT:FALSE
SUMMARY:Grand Opening & Ribbon Cutting for Quick Shine Car Wash
DESCRIPTION:Please join us to celebrate the Grand Opening & Ribbon Cutting ceremony for Quick Shine Car Wash! \n\n*Ribbon Cutting ceremony \n\n*Refreshments\n\n* Raffle Prize of one free Lava Shield Membership \n\n\n\n***FREE Car Wash to anyone who attends the Ribbon Cutting from 12PM-2PM (this day only).***
X-ALT-DESC;FMTTYPE=text/html:Please join us to celebrate the Grand Opening &amp\; Ribbon Cutting ceremony for Quick Shine Car Wash!&nbsp\;<br />\n*Ribbon Cutting ceremony&nbsp\;<br />\n*Refreshments<br />\n* Raffle Prize of one free Lava Shield Membership&nbsp\;<br />\n<br />\n<span style="color:#000080\;"><span style="font-size:16px\;"><span style="font-family: Helvetica\, Arial\, sans-serif\; white-space: pre-wrap\;">***<strong>FREE</strong> Car Wash to anyone who attends the Ribbon Cutting from 12PM-2PM (this day only).***</span></span></span>
LOCATION:Quick Shine Car Wash 1337 S. Noland Rd. Independence\, MO 64050 *If parking lot fills up\, you are welcome to park in Leila's Hair Museum's lot
UID:e.2043.8291
SEQUENCE:3
DTSTAMP:20260424T065934Z
URL:https://business.ichamber.biz/events/details/grand-opening-ribbon-cutting-for-quick-shine-car-wash-8291
END:VEVENT

END:VCALENDAR
