BEGIN:VCALENDAR
VERSION:2.0
PRODID:-//ChamberMaster//Event Calendar 2.0//EN
METHOD:PUBLISH
X-PUBLISHED-TTL:P3D
REFRESH-INTERVAL:P3D
CALSCALE:GREGORIAN
BEGIN:VEVENT
DTSTART:20180427T163000Z
DTEND:20180427T173000Z
X-MICROSOFT-CDO-ALLDAYEVENT:FALSE
SUMMARY:Grand Opening & Ribbon Cutting for The Delaware Event Space
DESCRIPTION:Please join us to celebrate the Grand Opening & Ribbon Cutting ceremony for The Delaware Event Space! \n\n*Ribbon Cutting ceremony \n\n*Tours \n\n*Refreshments & more
X-ALT-DESC;FMTTYPE=text/html:Please join us to celebrate the Grand Opening &amp\; Ribbon Cutting ceremony for The Delaware Event Space!&nbsp\;<br>\n*Ribbon Cutting ceremony&nbsp\;<br>\n*Tours&nbsp\;<br>\n*Refreshments &amp\; more&nbsp\;
LOCATION:The Delaware Event Space 125 S. Main St. Independence\, MO 64050
UID:e.2043.6221
SEQUENCE:3
DTSTAMP:20260424T055521Z
URL:https://business.ichamber.biz/events/details/grand-opening-ribbon-cutting-for-the-delaware-event-space-6221
END:VEVENT

END:VCALENDAR
