BEGIN:VCALENDAR
VERSION:2.0
PRODID:-//ChamberMaster//Event Calendar 2.0//EN
METHOD:PUBLISH
X-PUBLISHED-TTL:P3D
REFRESH-INTERVAL:P3D
CALSCALE:GREGORIAN
BEGIN:VEVENT
DTSTART:20181129T223000Z
DTEND:20181130T000000Z
X-MICROSOFT-CDO-ALLDAYEVENT:FALSE
SUMMARY:Grand Re-Opening for Speaks Suburban Chapel
DESCRIPTION:Come join us in celebrating the ribbon cutting for Speaks Suburban Chapel. The Ribbon Cutting portion will be at 5:15 pm then remarks from the Mayor of Independence and Bob Speaks. Bob was instrumental in the creation of this chapel.  Speaks is pleased to have just updated and remodeled their chapel\, which has helped so many in our community.  There will be refreshments and hor d'oeuvres served by Ophelia's.
X-ALT-DESC;FMTTYPE=text/html:<span style="font-size:14px\;"><span style="font-family:arial\;">Come join us in celebrating the ribbon cutting for Speaks Suburban Chapel. The Ribbon Cutting portion will be at 5:15 pm then&nbsp\;remarks from the Mayor of Independence and Bob Speaks. Bob was instrumental in the creation of this chapel.&nbsp\; Speaks is pleased to have just updated and remodeled their chapel\, which has helped so many in our community.&nbsp\; There will be refreshments and hor d&rsquo\;oeuvres served by Ophelia&rsquo\;s.</span></span><br />\n&nbsp\;
LOCATION:Speaks Suburban Chapel 18020 E 39th St Independence\, MO 64055
UID:e.2043.8755
SEQUENCE:3
DTSTAMP:20260424T144147Z
URL:https://business.ichamber.biz/events/details/grand-re-opening-for-speaks-suburban-chapel-8755
END:VEVENT

END:VCALENDAR
