BEGIN:VCALENDAR
VERSION:2.0
PRODID:-//ChamberMaster//Event Calendar 2.0//EN
METHOD:PUBLISH
X-PUBLISHED-TTL:P3D
REFRESH-INTERVAL:P3D
CALSCALE:GREGORIAN
BEGIN:VEVENT
DTSTART:20180227T150000Z
DTEND:20180227T160000Z
X-MICROSOFT-CDO-ALLDAYEVENT:FALSE
SUMMARY:Groundbreaking Ceremony for the City of Independence Farmers Market
DESCRIPTION:Join the City of Independence as they break ground on the new Independence Farmers Market!
X-ALT-DESC;FMTTYPE=text/html:Join the City of Independence as they break ground on the new Independence Farmers Market!&nbsp\;
LOCATION:201 W. Truman Rd. Independence\, MO 64050
UID:e.2043.6236
SEQUENCE:3
DTSTAMP:20260424T034849Z
URL:https://business.ichamber.biz/events/details/groundbreaking-ceremony-for-the-city-of-independence-farmers-market-6236
END:VEVENT

END:VCALENDAR
