BEGIN:VCALENDAR
VERSION:2.0
PRODID:-//ChamberMaster//Event Calendar 2.0//EN
METHOD:PUBLISH
X-PUBLISHED-TTL:P3D
REFRESH-INTERVAL:P3D
CALSCALE:GREGORIAN
BEGIN:VEVENT
DTSTART:20190528T230000Z
DTEND:20190529T000000Z
X-MICROSOFT-CDO-ALLDAYEVENT:FALSE
SUMMARY:Grow Good Health with Tower Garden!
DESCRIPTION:TOWER GARDEN 101: GROW GOOD HEALTH\n\n\n\nCome learn about helping the environment and growing Tower-to-Table with VERTICAL Aeroponic growing! Save water and space while growing super nutritious\, safe food.\n\n\n\nPresented by Emily Nelson Hunt.\n\n\n\nOutline:\n\n-Tower Garden Assembly\n\n-Seedling Propagation\n\n-Pest Control\n\n-Harvesting\n\n-Many helpful tips for a successful garden for you and the entire family\n\n\n\nCost: Free\n\n\n\nBonuses: \n\n-Raffle for a Terra gift card\n\n-10% off grocery shopping cart (day of only)
X-ALT-DESC;FMTTYPE=text/html:<u><strong><span style="background-color:rgb(255\, 255\, 255)\; color:rgb(29\, 33\, 41)\; font-family:inherit\; font-size:14px">TOWER GARDEN 101: GROW GOOD HEALTH</span></strong></u><br />\n<br />\n<span style="background-color:rgb(255\, 255\, 255)\; color:rgb(29\, 33\, 41)\; font-family:inherit\; font-size:14px">Come learn about helping the environment and growing Tower-to-Table with VERTICAL Aeroponic growing! Save water and space while growing super nutritious\, safe food.</span><br />\n<br />\n<strong><span style="background-color:rgb(255\, 255\, 255)\; color:rgb(29\, 33\, 41)\; font-family:inherit\; font-size:14px">Presented by Emily Nelson Hunt.</span></strong><br />\n<br />\n<u><span style="background-color:rgb(255\, 255\, 255)\; color:rgb(29\, 33\, 41)\; font-family:inherit\; font-size:14px">Outline:</span></u><br />\n<span style="background-color:rgb(255\, 255\, 255)\; color:rgb(29\, 33\, 41)\; font-family:inherit\; font-size:14px">-Tower Garden Assembly</span><br />\n<span style="background-color:rgb(255\, 255\, 255)\; color:rgb(29\, 33\, 41)\; font-family:inherit\; font-size:14px">-Seedling Propagation</span><br />\n<span style="background-color:rgb(255\, 255\, 255)\; color:rgb(29\, 33\, 41)\; font-family:inherit\; font-size:14px">-Pest Control</span><br />\n<span style="background-color:rgb(255\, 255\, 255)\; color:rgb(29\, 33\, 41)\; font-family:inherit\; font-size:14px">-Harvesting</span><br />\n<span style="background-color:rgb(255\, 255\, 255)\; color:rgb(29\, 33\, 41)\; font-family:inherit\; font-size:14px">-Many helpful tips for a successful garden for you and the entire family</span><br />\n<br />\n<span style="background-color:rgb(255\, 255\, 255)\; color:rgb(29\, 33\, 41)\; font-family:inherit\; font-size:14px">Cost: Free</span><br />\n<br />\n<u><span style="background-color:rgb(255\, 255\, 255)\; color:rgb(29\, 33\, 41)\; font-family:inherit\; font-size:14px">Bonuses: </span></u><br />\n<span style="background-color:rgb(255\, 255\, 255)\; color:rgb(29\, 33\, 41)\; font-family:inherit\; font-size:14px">-<strong>Raffle for a Terra gift card</strong></span><br />\n<span style="background-color:rgb(255\, 255\, 255)\; color:rgb(29\, 33\, 41)\; font-family:inherit\; font-size:14px">-10% off grocery shopping cart (day of only)</span>
LOCATION:Terra Health & Wellness Market Conveniently located just off I-70 and Little Blue Parkway\, in the same shopping center as Bed\, Bath & Beyond and World Market.
UID:e.2043.9675
SEQUENCE:3
DTSTAMP:20260424T235459Z
URL:https://business.ichamber.biz/events/details/grow-good-health-with-tower-garden-9675
END:VEVENT

END:VCALENDAR
