BEGIN:VCALENDAR
VERSION:2.0
PRODID:-//ChamberMaster//Event Calendar 2.0//EN
METHOD:PUBLISH
X-PUBLISHED-TTL:P3D
REFRESH-INTERVAL:P3D
CALSCALE:GREGORIAN
BEGIN:VEVENT
DTSTART:20180614T210000Z
DTEND:20180614T220000Z
X-MICROSOFT-CDO-ALLDAYEVENT:FALSE
SUMMARY:Healthcare Committee Meeting
DESCRIPTION:The Healthcare Committee strives to educate Chamber members and community members\, students and the media\, on healthcare related issues as well as what resources are available in our community for healthcare. We will do our part to educate\, advocate and support our members and citizens on healthcare related topics.
X-ALT-DESC;FMTTYPE=text/html:The Healthcare Committee strives to educate Chamber members and community members\, students and the media\, on healthcare related issues as well as what resources are available in our community for healthcare. We will do our part to educate\, advocate and support our members and citizens on healthcare related topics.
LOCATION:Independence Chamber of Commerce Boardroom 210 W. Truman Rd. Independence\, MO 64050
UID:e.2043.5723
SEQUENCE:3
DTSTAMP:20260424T084108Z
URL:https://business.ichamber.biz/events/details/healthcare-committee-meeting-06-14-2018-5723
END:VEVENT

END:VCALENDAR
