BEGIN:VCALENDAR
VERSION:2.0
PRODID:-//ChamberMaster//Event Calendar 2.0//EN
METHOD:PUBLISH
X-PUBLISHED-TTL:P3D
REFRESH-INTERVAL:P3D
CALSCALE:GREGORIAN
BEGIN:VEVENT
DTSTART:20190514T230000Z
DTEND:20190515T000000Z
X-MICROSOFT-CDO-ALLDAYEVENT:FALSE
SUMMARY:Herbs 101 with Sarah!
DESCRIPTION:JOIN THE CONVERSATION TO MEET YOUR LOCAL HERB LOVERS!\n\n\n\nPresented by Sarah Liljegren\, Herbalist & Terra's Bulk Herb Manager.\n\n\n\nThis is not a series - each stand alone class covers similar material. Of course\, there will be different questions\, so you're welcome to come each time! Class offered 2nd Tuesday of each month (some exceptions). \n\n\n\nCLASS:\n\nWhat is herbalism? What is it's role in modern health? Discover your inner herbalist - learn to expand your herbal medicine cabinet! Find out how to incorporate them into your everyday or weekly routines. Observe demonstration\, receive recipe cards for making three herbal drinks\, and sip on herbal beverages! \n\n\n\nBONUSES:\n\nEnjoy healthy snacks. Attendees receive 10% off grocery cart after class\, as well as entrance into a gift card raffle!\n\n\n\nCOST:\n\n$5 paid in advance or at the door.\n\n\n\nBIO:\n\nSarah has been a practicing herbalist for 2 1/2 years. In that time\, she's traveled the country learning native plants\, studied with a variety of herbalists\, and created a business making herbal products called Scorpio Rising Botanicals\, officially founded in 2018. Her mission is to share not only handcrafted health and beauty products\, but education about the ingredients as well as how to harvest them yourself. To Sarah\, herbal medicine is a way of life - finding medicine within our landscape\, discovering beauty in weeds\, and cultivating a personalized relationship with nature. Every product has a story\, every story has a lesson\, and every lesson can be shared.
X-ALT-DESC;FMTTYPE=text/html:<strong><span style="color:rgb(32\, 33\, 36)\; font-family:roboto\,robotodraft\,helvetica\,arial\,sans-serif\; font-size:14px">JOIN THE CONVERSATION TO MEET YOUR LOCAL HERB LOVERS!</span></strong><br />\n<br />\n<span style="color:rgb(32\, 33\, 36)\; font-family:roboto\,robotodraft\,helvetica\,arial\,sans-serif\; font-size:14px">Presented by Sarah Liljegren\, Herbalist &amp\; Terra&#39\;s Bulk Herb Manager.</span><br />\n<br />\n<strong><span style="color:rgb(32\, 33\, 36)\; font-family:roboto\,robotodraft\,helvetica\,arial\,sans-serif\; font-size:14px">This is not a series - each stand alone class covers similar material. Of course\, there will be different questions\, so you&#39\;re welcome to come each time! Class offered 2nd Tuesday of each month (some exceptions).&nbsp\;</span></strong><br />\n<br />\n<span style="color:rgb(32\, 33\, 36)\; font-family:roboto\,robotodraft\,helvetica\,arial\,sans-serif\; font-size:14px">CLASS:</span><br />\n<span style="color:rgb(32\, 33\, 36)\; font-family:roboto\,robotodraft\,helvetica\,arial\,sans-serif\; font-size:14px">What is herbalism? What is it&#39\;s role in modern health? Discover your inner herbalist - learn to expand your herbal medicine cabinet! Find out how to incorporate them into your everyday or weekly routines. Observe demonstration\, receive recipe cards for making three herbal drinks\, and sip on herbal beverages!&nbsp\;</span><br />\n<br />\n<span style="color:rgb(32\, 33\, 36)\; font-family:roboto\,robotodraft\,helvetica\,arial\,sans-serif\; font-size:14px">BONUSES:</span><br />\n<span style="color:rgb(32\, 33\, 36)\; font-family:roboto\,robotodraft\,helvetica\,arial\,sans-serif\; font-size:14px">Enjoy healthy snacks. Attendees receive 10% off grocery cart after class\, as well as entrance into a gift card raffle!</span><br />\n<br />\n<span style="color:rgb(32\, 33\, 36)\; font-family:roboto\,robotodraft\,helvetica\,arial\,sans-serif\; font-size:14px">COST:</span><br />\n<span style="color:rgb(32\, 33\, 36)\; font-family:roboto\,robotodraft\,helvetica\,arial\,sans-serif\; font-size:14px">$5 paid in advance or at the door.</span><br />\n<br />\n<span style="color:rgb(32\, 33\, 36)\; font-family:roboto\,robotodraft\,helvetica\,arial\,sans-serif\; font-size:14px">BIO:</span><br />\n<span style="color:rgb(32\, 33\, 36)\; font-family:roboto\,robotodraft\,helvetica\,arial\,sans-serif\; font-size:14px">Sarah has been a practicing herbalist for 2 1/2 years. In that time\, she&#39\;s traveled the country learning native plants\, studied with a variety of herbalists\, and created a business making herbal products called Scorpio Rising Botanicals\, officially founded in 2018. Her mission is to share not only handcrafted health and beauty products\, but education about the ingredients as well as how to harvest them yourself. To Sarah\, herbal medicine is a way of life - finding medicine within our landscape\, discovering beauty in weeds\, and cultivating a personalized relationship with nature. Every product has a story\, every story has a lesson\, and every lesson can be shared.</span>
LOCATION:Terra Health & Wellness Market Ph: 816.795.9700 Conveniently located just off I-70 and Little Blue Parkway\, in the same shopping center strip as Bed\, Bath & Beyond and World Market.
UID:e.2043.9669
SEQUENCE:3
DTSTAMP:20260424T235103Z
URL:https://business.ichamber.biz/events/details/herbs-101-with-sarah-9669
END:VEVENT

END:VCALENDAR
