BEGIN:VCALENDAR
VERSION:2.0
PRODID:-//ChamberMaster//Event Calendar 2.0//EN
METHOD:PUBLISH
X-PUBLISHED-TTL:P3D
REFRESH-INTERVAL:P3D
CALSCALE:GREGORIAN
BEGIN:VEVENT
DTSTART:20190420T140000Z
DTEND:20190420T150000Z
X-MICROSOFT-CDO-ALLDAYEVENT:FALSE
SUMMARY:Historic Independence Walking Tour
DESCRIPTION:Walk in the footsteps of early Independence residents\, and experience western expansion\, the Civil War\, outlaws\, pioneer settlers\, and Harry Truman. A one-hour tour of the historic Independence Square takes you to places and events of the past. Please meet at the Main Street Coffee House located at 107 S. Main St. #100 in Independence\, MO.
X-ALT-DESC;FMTTYPE=text/html:<span style="background-color:rgb(245\, 245\, 245)\; font-family:helvetica neue\,helvetica\,arial\,sans-serif\; font-size:14px">Walk in the footsteps of early Independence residents\, and experience western expansion\, the Civil War\, outlaws\, pioneer settlers\, and Harry Truman. A one-hour tour of the historic Independence Square takes you to places and events of the past. Please meet at the Main Street Coffee House located at 107 S. Main St. #100 in Independence\, MO.</span>
LOCATION:Midwest Genealogy Center 3440 S. Lee's Summit Rd Independence\, MO 64055
UID:e.2043.9052
SEQUENCE:3
DTSTAMP:20260424T235213Z
URL:https://business.ichamber.biz/events/details/historic-independence-walking-tour-9052
END:VEVENT

END:VCALENDAR
