BEGIN:VCALENDAR
VERSION:2.0
PRODID:-//ChamberMaster//Event Calendar 2.0//EN
METHOD:PUBLISH
X-PUBLISHED-TTL:P3D
REFRESH-INTERVAL:P3D
CALSCALE:GREGORIAN
BEGIN:VEVENT
DTSTART:20161213T233000Z
DTEND:20161214T013000Z
X-MICROSOFT-CDO-ALLDAYEVENT:FALSE
SUMMARY:Holiday Business After Hours
DESCRIPTION:The Bingham-Waggoner Estate\n\n313 W. Pacific Ave\n\nIndependence\, MO 64050
X-ALT-DESC;FMTTYPE=text/html:The Bingham-Waggoner Estate<br />\n313 W. Pacific Ave<br />\nIndependence\, MO 64050<br />\n&nbsp\;
LOCATION:The Bingham-Waggoner Estate 313 W. Pacific Avenue Independence\, MO 64050
UID:e.2043.3589
SEQUENCE:3
DTSTAMP:20260424T222024Z
URL:https://business.ichamber.biz/events/details/holiday-business-after-hours-12-13-2016-3589
END:VEVENT

END:VCALENDAR
