BEGIN:VCALENDAR
VERSION:2.0
PRODID:-//ChamberMaster//Event Calendar 2.0//EN
METHOD:PUBLISH
X-PUBLISHED-TTL:P3D
REFRESH-INTERVAL:P3D
CALSCALE:GREGORIAN
BEGIN:VEVENT
DTSTART:20171214T233000Z
DTEND:20171215T010000Z
X-MICROSOFT-CDO-ALLDAYEVENT:FALSE
SUMMARY:Holiday Business After Hours
DESCRIPTION:We hope you can join us for our Holiday Business After Hours event at The Bingham-Waggoner Estate sponsored by Silverstein Eye Centers! \n\n\nUnwind at the end of your day and strengthen your professional contacts at the same time. With its social atmosphere and quality contacts\, you can't beat this networking opportunity! \n\n*Tour the beautiful Bingham - Waggoner Estate\n\n*Food\n\n*Drinks\n\n*Fun
X-ALT-DESC;FMTTYPE=text/html:<span style="font-family: Arial\, sans-serif\; font-size: 13.3333px\; line-height: 20.8px\;">We hope you can join us for our Holiday Business After Hours event at The Bingham-Waggoner Estate sponsored by Silverstein Eye Centers!&nbsp\;</span>\n<div><br />\n<span style="font-family: Arial\, sans-serif\; font-size: 13.3333px\; line-height: 20.8px\;">Unwind at&nbsp\;the end of your day and strengthen your professional contacts at the same time.&nbsp\;With its social&nbsp\;atmosphere&nbsp\;and quality contacts\, you can&#39\;t beat this networking opportunity!&nbsp\;<br />\n*Tour the beautiful Bingham - Waggoner Estate<br />\n*Food<br />\n*Drinks<br />\n*Fun&nbsp\;</span><br />\n&nbsp\;</div>\n<br />\n&nbsp\;
LOCATION:The Bingham-Waggoner Estate 313 W. Pacific Avenue Independence\, MO 64050
UID:e.2043.4966
SEQUENCE:3
DTSTAMP:20260424T055425Z
URL:https://business.ichamber.biz/events/details/holiday-business-after-hours-12-14-2017-4966
END:VEVENT

END:VCALENDAR
