BEGIN:VCALENDAR
VERSION:2.0
PRODID:-//ChamberMaster//Event Calendar 2.0//EN
METHOD:PUBLISH
X-PUBLISHED-TTL:P3D
REFRESH-INTERVAL:P3D
CALSCALE:GREGORIAN
BEGIN:VEVENT
DTSTART:20190513T233000Z
DTEND:20190514T003000Z
X-MICROSOFT-CDO-ALLDAYEVENT:FALSE
SUMMARY:How to Date Old Photograps
DESCRIPTION:Most genealogists have a box full of unidentified photographs\, usually passed down from generation to generation. Dating your photographs can possibly help you identify who the people are and where they were. We will give you tips on using items in the photograph\, as well as the photograph itself\, to determine the time period in which it was taken. Bring in one or two photographs for our team to help you date. This is a beginner-level class.
X-ALT-DESC;FMTTYPE=text/html:<span style="background-color:rgb(245\, 245\, 245)\; font-family:helvetica neue\,helvetica\,arial\,sans-serif\; font-size:14px">Most genealogists have a box full of unidentified photographs\, usually passed down from generation to generation. Dating your photographs can possibly help you identify who the people are and where they were. We will give you tips on using items in the photograph\, as well as the photograph itself\, to determine the time period in which it was taken. Bring in one or two photographs for our team to help you date. This is a beginner-level class.</span>
LOCATION:Midwest Genealogy Center
UID:e.2043.9510
SEQUENCE:3
DTSTAMP:20260424T235341Z
URL:https://business.ichamber.biz/events/details/how-to-date-old-photograps-9510
END:VEVENT

END:VCALENDAR
