BEGIN:VCALENDAR
VERSION:2.0
PRODID:-//ChamberMaster//Event Calendar 2.0//EN
METHOD:PUBLISH
X-PUBLISHED-TTL:P3D
REFRESH-INTERVAL:P3D
CALSCALE:GREGORIAN
BEGIN:VEVENT
DTSTART:20160818T170000Z
DTEND:20160818T180000Z
X-MICROSOFT-CDO-ALLDAYEVENT:FALSE
SUMMARY:iMembership 101
DESCRIPTION:Are you a new member of the Chamber?\n\nHave you been a member for awhile but need a refresher?\n\niMembership 101 will explain what your chamber membership includes.\n\nHow to use the website\, update your profile\, post your own events\, deals and more!
X-ALT-DESC;FMTTYPE=text/html:Are you a new member of the Chamber?<br />\nHave you been a member for awhile but need a refresher?<br />\niMembership 101 will explain what your chamber membership includes.<br />\nHow to use the website\, update your profile\, post your own events\, deals and more!
LOCATION:Chamber Board Room 210 W Truman Rd Independence MO 64050
UID:e.2043.3545
SEQUENCE:3
DTSTAMP:20260425T025734Z
URL:https://business.ichamber.biz/events/details/imembership-101-08-18-2016-3545
END:VEVENT

END:VCALENDAR
