BEGIN:VCALENDAR
VERSION:2.0
PRODID:-//ChamberMaster//Event Calendar 2.0//EN
METHOD:PUBLISH
X-PUBLISHED-TTL:P3D
REFRESH-INTERVAL:P3D
CALSCALE:GREGORIAN
BEGIN:VEVENT
DTSTART:20190403T163000Z
DTEND:20190403T180000Z
X-MICROSOFT-CDO-ALLDAYEVENT:FALSE
SUMMARY:Independence Business Awards Luncheon
DESCRIPTION:Join us as we partner with the Independence Economic Development Council for the annual celebration recognizing the top Independence businesses for the past year.  We will present awards in the categories of:\n\n\n	Major Employer of the Year\n	Small Business of the Year\n	Manufacturer of the Year\n	Non-Profit of the Year\n	Emerging Business of the Year\n	Philanthropic Business of the Year\n	Hospitality Business of the Year
X-ALT-DESC;FMTTYPE=text/html:<p style="font-family: Ubuntu\, Arial\, sans-serif\; font-size: 18px\; margin-top: 0px !important\;"><span style="font-family:tahoma\;">Join us as we partner with the Independence Economic Development Council for the&nbsp\;annual celebration recognizing&nbsp\;the top Independence businesses for the past year.&nbsp\; We will present awards in the categories of:</span></p>\n\n<ul style="margin: 1em 0px 1em 18px\; padding-right: 0px\; padding-left: 0px\; list-style-position: initial\; list-style-image: initial\; font-family: Ubuntu\, Arial\, sans-serif\; font-size: 18px\;">\n	<li style="margin: 0px\; padding: 0px\;"><span style="font-family:tahoma\;">Major Employer of the Year</span></li>\n	<li style="margin: 0px\; padding: 0px\;"><span style="font-family:tahoma\;">Small Business of the Year</span></li>\n	<li style="margin: 0px\; padding: 0px\;"><span style="font-family:tahoma\;">Manufacturer of the Year</span></li>\n	<li style="margin: 0px\; padding: 0px\;"><span style="font-family:tahoma\;">Non-Profit of the Year</span></li>\n	<li style="margin: 0px\; padding: 0px\;"><span style="font-family:tahoma\;">Emerging Business of the Year</span></li>\n	<li style="margin: 0px\; padding: 0px\;"><span style="font-family:tahoma\;">Philanthropic Business of the Year</span></li>\n	<li style="margin: 0px\; padding: 0px\;"><span style="font-family:tahoma\;">Hospitality Business of the Year</span></li>\n</ul>\n
LOCATION:Stoney Creek Conference Center\, 18011 Bass Pro Drive\, Independence\, MO 64055
UID:e.2043.9062
SEQUENCE:3
DTSTAMP:20260424T211759Z
URL:https://business.ichamber.biz/events/details/independence-business-awards-luncheon-9062
END:VEVENT

END:VCALENDAR
