BEGIN:VCALENDAR
VERSION:2.0
PRODID:-//ChamberMaster//Event Calendar 2.0//EN
METHOD:PUBLISH
X-PUBLISHED-TTL:P3D
REFRESH-INTERVAL:P3D
CALSCALE:GREGORIAN
BEGIN:VEVENT
DTSTART:20180320T220000Z
DTEND:20180320T233000Z
X-MICROSOFT-CDO-ALLDAYEVENT:FALSE
SUMMARY:Independence City Council Candidate Forum
DESCRIPTION:RESCHEDULED from 2/22/18! \n\n\n\nMEET THE CANDIDATES!\n\nThe Independence Chamber of Commerce and the Metropolitan Community College\, Blue River Campus invite you to participate in a candidate forum to be held at the campus on March 20\, 2018. The Chamber and MCC-BR college are providing this opportunity for the purpose of public/community awareness\, education\, and engagement. Neither entity can offer endorsement or support of a particular candidate. As hosts\, we will promote the event publicly. The forum will be held regardless of all candidates' ability to attend.\n\n\n \n\nPRESENTERS/HOSTS:\n\nIndependence Chamber of Commerce and MCC-Blue River\n\n\n\nTIMES: \n\n5:00-6:30 PM (public-focused)\n\n\n\nCandidates will be provided with forum topics in advance\, but not specific questions. Additional information related to the format will be forwarded to candidates upon request.\n\n\n\nFREE to attend.  Please take a moment to register so that we can plan accordingly.\n\n \n\nPLEASE CLICK HERE TO REGISTER:\n\nhttps://citycouncilcandidateforum.eventbrite.com
X-ALT-DESC;FMTTYPE=text/html:<h2 20px="" background-color:="" color:="" font-size:="" font-weight:="" helvetica="" letter-spacing:="" line-height:="" margin:="" max-width:="" style="box-sizing: border-box\; font-family: Oxygen\, Arial\, " text-align:=""><strong style="box-sizing: border-box\;"><span style="box-sizing: border-box\; color: rgb(255\, 0\, 0)\;"><span id="cke_bm_91S" style="display: none\;">&nbsp\;</span>RESCHEDULED </span></strong><span style="box-sizing: border-box\; color: rgb(255\, 0\, 0)\;">from 2/22/18!<span id="cke_bm_91E" style="display: none\;">&nbsp\;</span></span></h2>\n\n<p style="margin: 0px 0px 6px\; font-family: Helvetica\, Arial\, sans-serif\; color: rgb(29\, 33\, 41)\; font-size: 14px\;"><br />\n<strong>MEET THE CANDIDATES!</strong></p>\n\n<p style="margin: 6px 0px\; font-family: Helvetica\, Arial\, sans-serif\; color: rgb(29\, 33\, 41)\; font-size: 14px\;">The Independence Chamber of Commerce and the Metropolitan Community College\, Blue River Campus invite you to participate in a candidate forum to be held at the campus on March 20\, 2018. The Chamber and MCC-BR college are providing this opportunity for the purpose of public/community awareness\, education\, and engagement. Neither entity can offer endorsement or support of a particular candidate. As hosts\, we will promote the event publi<span class="text_exposed_show" style="display: inline\; font-family: inherit\;">cly. The forum will be held regardless of all candidates&rsquo\; ability to attend.</span></p>\n\n<div class="text_exposed_show" style="display: inline\; font-family: Helvetica\, Arial\, sans-serif\; color: rgb(29\, 33\, 41)\; font-size: 14px\;">\n<p style="margin: 0px 0px 6px\; font-family: inherit\;">&nbsp\;</p>\n\n<p style="margin: 6px 0px\; font-family: inherit\;">PRESENTERS/HOSTS:<br />\nIndependence Chamber of Commerce and MCC-Blue River</p>\n\n<p style="margin: 6px 0px\; font-family: inherit\;"><br />\nTIMES:&nbsp\;<br />\n5:00-6:30 PM (public-focused)</p>\n\n<p style="margin: 6px 0px\; font-family: inherit\;"><br />\nCandidates will be provided with forum topics in advance\, but not specific questions. Additional information related to the format will be forwarded to candidates upon request.</p>\n\n<p style="margin: 6px 0px\; font-family: inherit\;"><br />\nFREE to attend.&nbsp\; Please take a moment to register so that we can plan accordingly.<br />\n&nbsp\;<br />\nPLEASE CLICK HERE TO REGISTER:</p>\n\n<div style="background:#eee\;border:1px solid #ccc\;padding:5px 10px\;"><a href="https://citycouncilcandidateforum.eventbrite.com"><strong>https://citycouncilcandidateforum.eventbrite.com</strong></a></div>\n&nbsp\;\n\n<p style="margin: 6px 0px\; font-family: inherit\;">&nbsp\;</p>\n</div>\n
LOCATION:Metropolitan Community College- Blue River Campus EC Room 110\, 20301 East 78 Hwy Independence\, MO 64057 *Located in the Education Center\, the far west building
UID:e.2043.6223
SEQUENCE:3
DTSTAMP:20260424T045255Z
URL:https://business.ichamber.biz/events/details/independence-city-council-candidate-forum-6223
END:VEVENT

END:VCALENDAR
