BEGIN:VCALENDAR
VERSION:2.0
PRODID:-//ChamberMaster//Event Calendar 2.0//EN
METHOD:PUBLISH
X-PUBLISHED-TTL:P3D
REFRESH-INTERVAL:P3D
CALSCALE:GREGORIAN
BEGIN:VEVENT
DTSTART:20180223T000000Z
DTEND:20180223T013000Z
X-MICROSOFT-CDO-ALLDAYEVENT:FALSE
SUMMARY:Independence City Council Candidate Forum
DESCRIPTION:ALERT! \n\nDue to inclement weather\, the Candidate Forum Sessions scheduled today\, 2/22/18 (2:00 PM & 6:00 PM)\, have been canceled.  A rescheduled date is being reviewed and will be posted as soon as it has been determined.\n\n\n\n\n\nMEET THE CANDIDATES!\n\nThe Independence Chamber of Commerce and the Metropolitan Community College\, Blue River Campus invite you to participate in a candidate forum (2 sessions) to be held at the campus on February 22nd\, 2018. The Chamber and MCC-BR college are providing this opportunity for the purpose of public/community awareness\, education\, and engagement. Neither entity can offer endorsement or support of a particular candidate. As hosts\, we will promote the event publicly. The forum will be held regardless of all candidates' ability to attend.\n\n\n \n\nPRESENTERS/HOSTS:\n\nIndependence Chamber of Commerce and MCC-Blue River\n\n\n\nTIMES (2 sessions): \n\n2:00-3:30 (student-focused)\n\n6:00-7:30 (public-focused)\n\n\n\nCandidates will be provided with forum topics in advance\, but not specific questions. Additional information related to the format will be forwarded to candidates upon request.\n\nJoin us for our Business After Hours event beginning at 4:30 pm in between the 2 sessions.\n\n\n\nFREE to attend.  Please take a moment to register so that we can plan accordingly.\n\n \n\nPLEASE CLICK HERE TO REGISTER:\n\nhttps://citycouncilcandidateforum.eventbrite.com
X-ALT-DESC;FMTTYPE=text/html:<h2 20px="" background-color:="" color:="" font-size:="" font-weight:="" helvetica="" letter-spacing:="" line-height:="" margin:="" max-width:="" style="box-sizing: border-box\;" text-align:=""><strong style="box-sizing: border-box\;"><span style="box-sizing: border-box\; color: rgb(255\, 0\, 0)\;">ALERT!&nbsp\;</span></strong></h2>\n\n<h2 20px="" background-color:="" color:="" font-size:="" font-weight:="" helvetica="" letter-spacing:="" line-height:="" margin:="" max-width:="" style="box-sizing: border-box\;" text-align:=""><span style="box-sizing: border-box\; color: rgb(255\, 0\, 0)\;">Due to inclement weather\, the Candidate Forum&nbsp\;Sessions scheduled today\, 2/22/18 (2:00 PM &amp\; 6:00 PM)\, have been canceled.&nbsp\; A rescheduled date is being reviewed and will be posted as soon as it has been determined.</span></h2>\n\n<p style="margin: 0px 0px 6px\; font-family: Helvetica\, Arial\, sans-serif\; color: rgb(29\, 33\, 41)\; font-size: 14px\;"><br />\n<br />\n<strong>MEET THE CANDIDATES!</strong></p>\n\n<p style="margin: 6px 0px\; font-family: Helvetica\, Arial\, sans-serif\; color: rgb(29\, 33\, 41)\; font-size: 14px\;">The Independence Chamber of Commerce and the Metropolitan Community College\, Blue River Campus invite you to participate in a candidate forum (2 sessions) to be held at the campus on February 22nd\, 2018. The Chamber and MCC-BR college are providing this opportunity for the purpose of public/community awareness\, education\, and engagement. Neither entity can offer endorsement or support of a particular candidate. As hosts\, we will promote the event publi<span class="text_exposed_show" style="display: inline\; font-family: inherit\;">cly. The forum will be held regardless of all candidates&rsquo\; ability to attend.</span></p>\n\n<div class="text_exposed_show" style="display: inline\; font-family: Helvetica\, Arial\, sans-serif\; color: rgb(29\, 33\, 41)\; font-size: 14px\;">\n<p style="margin: 0px 0px 6px\; font-family: inherit\;">&nbsp\;</p>\n\n<p style="margin: 6px 0px\; font-family: inherit\;">PRESENTERS/HOSTS:<br />\nIndependence Chamber of Commerce and MCC-Blue River</p>\n\n<p style="margin: 6px 0px\; font-family: inherit\;"><br />\nTIMES (2 sessions):&nbsp\;<br />\n2:00-3:30 (student-focused)<br />\n6:00-7:30 (public-focused)</p>\n\n<p style="margin: 6px 0px\; font-family: inherit\;"><br />\nCandidates will be provided with forum topics in advance\, but not specific questions. Additional information related to the format will be forwarded to candidates upon request.</p>\n\n<p style="margin: 6px 0px\; font-family: inherit\;">Join us for our Business After Hours event beginning at 4:30 pm in between the 2 sessions.<br />\n<br />\nFREE to attend.&nbsp\; Please take a moment to register so that we can plan accordingly.<br />\n&nbsp\;<br />\nPLEASE CLICK HERE TO REGISTER:</p>\n\n<div style="background:#eee\;border:1px solid #ccc\;padding:5px 10px\;"><a href="https://citycouncilcandidateforum.eventbrite.com"><strong>https://citycouncilcandidateforum.eventbrite.com</strong></a></div>\n&nbsp\;\n\n<p style="margin: 6px 0px\; font-family: inherit\;">&nbsp\;</p>\n</div>\n
LOCATION:Metropolitan Community College- Blue River Campus EC Room 110\, 20301 East 78 Hwy Independence\, MO 64057
UID:e.2043.6224
SEQUENCE:3
DTSTAMP:20260424T034754Z
URL:https://business.ichamber.biz/events/details/independence-city-council-candidate-forum-6224
END:VEVENT

END:VCALENDAR
