BEGIN:VCALENDAR
VERSION:2.0
PRODID:-//ChamberMaster//Event Calendar 2.0//EN
METHOD:PUBLISH
X-PUBLISHED-TTL:P3D
REFRESH-INTERVAL:P3D
CALSCALE:GREGORIAN
BEGIN:VEVENT
DTSTART:20190416T130000Z
DTEND:20190417T020000Z
X-MICROSOFT-CDO-ALLDAYEVENT:FALSE
SUMMARY:Independence Day at the Capitol
DESCRIPTION:Join the Independence Chamber of Commerce on a trip to our state capitol\, Jefferson City. We will ride down and back together on the Amtrak train. During this trip\, we will be meeeting with representatives to discuss the shared legialtive agenda items between the Chamber and the City of Independence. This event is supported by the Chamber's Public Policy Committee and the City of Independence.
X-ALT-DESC;FMTTYPE=text/html:Join the Independence Chamber of Commerce on a trip to our state capitol\, Jefferson City. We will ride down and back together on the Amtrak train. During this trip\, we will be meeeting with representatives to discuss the shared legialtive agenda items between the Chamber and the City of Independence. This event is supported by the Chamber&#39\;s Public Policy Committee and the City of Independence.&nbsp\;
LOCATION:Jefferson City\, Missouri.
UID:e.2043.9494
SEQUENCE:3
DTSTAMP:20260424T211759Z
URL:https://business.ichamber.biz/events/details/independence-day-at-the-capitol-9494
END:VEVENT

END:VCALENDAR
