BEGIN:VCALENDAR
VERSION:2.0
PRODID:-//ChamberMaster//Event Calendar 2.0//EN
METHOD:PUBLISH
X-PUBLISHED-TTL:P3D
REFRESH-INTERVAL:P3D
CALSCALE:GREGORIAN
BEGIN:VEVENT
DTSTART;VALUE=DATE:20150224
DTEND;VALUE=DATE:20150225
TRANSP:TRANSPARENT
X-MICROSOFT-CDO-ALLDAYEVENT:TRUE
SUMMARY:Independence Day at the State Capitol
DESCRIPTION:Tuesday morning\, February 24th\, join fellow Independence Chamber members for a trip to Jefferson City for a breakfast reception hosted by the Independence Chamber of Commerce. After the breakfast reception and visit to the floors of both the Senate and the House of Representative\, meet for lunch at Madison's Cafe for a presentation from state officials before returning to Independence.
X-ALT-DESC;FMTTYPE=text/html:<span style="color: rgb(51\, 51\, 51)\; font-family: Arial\, Helvetica\, sans-serif\; font-size: 14px\; line-height: 18px\;">Tuesday morning\, February 24th\, join fellow Independence Chamber members for a trip to Jefferson City for a breakfast reception hosted by the Independence Chamber of Commerce. After the breakfast reception and visit to the floors of both the Senate and the House of Representative\, meet for lunch at Madison&rsquo\;s Cafe for a presentation from state officials before returning to Independence.</span>
LOCATION:Jefferson City
UID:e.2043.1952
SEQUENCE:3
DTSTAMP:20260425T220348Z
URL:https://business.ichamber.biz/events/details/independence-day-at-the-state-capitol-02-24-2015-1952
END:VEVENT

END:VCALENDAR
