BEGIN:VCALENDAR
VERSION:2.0
PRODID:-//ChamberMaster//Event Calendar 2.0//EN
METHOD:PUBLISH
X-PUBLISHED-TTL:P3D
REFRESH-INTERVAL:P3D
CALSCALE:GREGORIAN
BEGIN:VEVENT
DTSTART:20180510T170000Z
DTEND:20180510T230000Z
X-MICROSOFT-CDO-ALLDAYEVENT:FALSE
SUMMARY:Independence Regional Business Expo
DESCRIPTION:Find some of the most successful and dynamic companies operating throughout the Independence Regional Business Expo.  Dozens of the most recognizable business names in Missouri's second largest county will be displaying\, explaining\, and demonstrating their products and services for the representatives of their fellow businesses in Eastern Jackson County and potential customers/clients.\n\n \n\nWith each participating business inviting their best customers from the region to be their guest at the event\, attendance is expected to exceed well over a thousand qualified prospects. The Eastern Jackson County Business Expo is also open to the public for $10.
X-ALT-DESC;FMTTYPE=text/html:<span style="font-size: 13.5pt\; line-height: 107%\; font-family: Arial\, sans-serif\;">Find some of the most successful and dynamic companies operating throughout the Independence Regional Business Expo.&nbsp\; Dozens of the most recognizable business names in Missouri's second largest county will be displaying\, explaining\, and demonstrating their products and services for the representatives of their fellow businesses in Eastern Jackson County and potential customers/clients.<br>\n&nbsp\;<br>\nWith each participating business inviting their best customers from the region to be their guest at the event\, attendance is expected to exceed well over a thousand qualified prospects. The Eastern Jackson County Business Expo is also open to the public for $10.&#8203\;<!--[if !supportLineBreakNewLine]--><br>\n<!--[endif]--></span>
LOCATION:Stoney Creek Hotel and Conference Center 18011 Bass Pro Drive Independence\, MO 64055
UID:e.2043.6220
SEQUENCE:3
DTSTAMP:20260424T065736Z
URL:https://business.ichamber.biz/events/details/independence-regional-business-expo-6220
END:VEVENT

END:VCALENDAR
