BEGIN:VCALENDAR
VERSION:2.0
PRODID:-//ChamberMaster//Event Calendar 2.0//EN
METHOD:PUBLISH
X-PUBLISHED-TTL:P3D
REFRESH-INTERVAL:P3D
CALSCALE:GREGORIAN
BEGIN:VEVENT
DTSTART:20250526T200000Z
DTEND:20250526T220000Z
X-MICROSOFT-CDO-ALLDAYEVENT:FALSE
SUMMARY:Intro to Wheel Throwing (10 and up) Monday Afternoon with Ceramic Classes
DESCRIPTION:Are you looking for a new craft and want to become completely enamored in Clay?\n\nThis 6 week class is the perfect introduction for aspiring clay artists\, Learn how to throw on the wheel and make your own masterpieces!\n\n\n\nLearning the basics of wheel throwing\, altering\, shaping and forming is just the beginning! We will work on multiple pieces and modification techniques.\n\n\n\nAges 10 and up\n\n\n\nNo Experience Needed!
X-ALT-DESC;FMTTYPE=text/html:<span style="color:rgb(102\, 102\, 102)\; font-family:source sans pro\,helvetica neue\,helvetica\,arial\,sans-serif\; font-size:16px">Are you looking for a new craft and want to become completely enamored in Clay?</span><br />\n<span style="color:rgb(102\, 102\, 102)\; font-family:source sans pro\,helvetica neue\,helvetica\,arial\,sans-serif\; font-size:16px">This 6 week class is the perfect introduction for aspiring clay artists\, Learn how to throw on the wheel and make your own masterpieces!</span><br />\n<br />\n<span style="color:rgb(102\, 102\, 102)\; font-family:source sans pro\,helvetica neue\,helvetica\,arial\,sans-serif\; font-size:16px">Learning the basics of wheel throwing\, altering\, shaping and forming is just the beginning! We will work on multiple pieces and modification techniques.</span><br />\n<br />\n<span style="color:rgb(102\, 102\, 102)\; font-family:source sans pro\,helvetica neue\,helvetica\,arial\,sans-serif\; font-size:16px">Ages 10 and up</span><br />\n<br />\n<span style="color:rgb(102\, 102\, 102)\; font-family:source sans pro\,helvetica neue\,helvetica\,arial\,sans-serif\; font-size:16px">No Experience Needed!</span>
LOCATION:Englewood Arts 10901 E Winner Rd Independence\, MO 64052
UID:e.2043.17716
SEQUENCE:3
DTSTAMP:20260425T230432Z
URL:https://business.ichamber.biz/events/details/intro-to-wheel-throwing-10-and-up-monday-afternoon-with-ceramic-classes-05-26-2025-17716
END:VEVENT

END:VCALENDAR
