BEGIN:VCALENDAR
VERSION:2.0
PRODID:-//ChamberMaster//Event Calendar 2.0//EN
METHOD:PUBLISH
X-PUBLISHED-TTL:P3D
REFRESH-INTERVAL:P3D
CALSCALE:GREGORIAN
BEGIN:VEVENT
DTSTART:20170504T230000Z
DTEND:20170505T020000Z
X-MICROSOFT-CDO-ALLDAYEVENT:FALSE
SUMMARY:ISD ACADEMY AWARDS
DESCRIPTION:Join us for the Inaugural Independence School District Academy Awards.  This will be a very special event\, a celebration to recognize our Industry Partners\, Students\, Teachers\, and Administrators for the success of the Academies.\n\n*Dinner provided by Cafe Verona \n\n\n\nFormal Attire Requested (Coat & Tie)
X-ALT-DESC;FMTTYPE=text/html:Join us for the Inaugural Independence School District Academy Awards. &nbsp\;This will be a very special event\, a celebration to recognize our Industry Partners\, Students\, Teachers\, and Administrators for the success of the Academies.<br />\n*Dinner provided by Cafe Verona&nbsp\;<br />\n<br />\nFormal Attire Requested (Coat &amp\; Tie)
LOCATION:Truman Memorial Building 416 W Maple Ave Independence\, MO 64050 VIEW MAP FOR TRUMAN MEMORIAL BUILDING *Parking options listed below in the gallery.
UID:e.2043.4306
SEQUENCE:3
DTSTAMP:20260424T152919Z
URL:https://business.ichamber.biz/events/details/isd-academy-awards-05-04-2017-4306
END:VEVENT

END:VCALENDAR
