BEGIN:VCALENDAR
VERSION:2.0
PRODID:-//ChamberMaster//Event Calendar 2.0//EN
METHOD:PUBLISH
X-PUBLISHED-TTL:P3D
REFRESH-INTERVAL:P3D
CALSCALE:GREGORIAN
BEGIN:VEVENT
DTSTART:20190508T160000Z
DTEND:20190508T164500Z
X-MICROSOFT-CDO-ALLDAYEVENT:FALSE
SUMMARY:Jammin' with Jesus\, a Ministry for Birth-3 year olds
DESCRIPTION:Do you have a little one under the age of 3? If so\, bring them to Nativity of Mary's newest ministry\, Jammin' with Jesus. Mrs. Parrish (principal)\, Miss Milazzo (music teacher)\, and Mrs. Hollo (preschool teacher) will have age-appropriate music\, faith\, and educational activities for you and your little ones to enjoy! Join us every 2nd Wednesday of the month at 11 am in the Nativity of Mary Parish Hall for some fun! Please use the 40 HWY entrance to the Parish Hall. Directional signs available on campus. Check us out at https://www.nativityofmary.org/jammin.
X-ALT-DESC;FMTTYPE=text/html:<span style="color:rgb(29\, 33\, 41)\; font-family:system-ui\,-apple-system\,system-ui\,.sfnstext-regular\,sans-serif\; font-size:14px">Do you have a little one under the age of 3? If so\, bring them to Nativity of Mary&#39\;s newest ministry\, Jammin&#39\; with Jesus. Mrs. Parrish (principal)\, Miss Milazzo (music teacher)\, and Mrs. Hollo (preschool teacher) will have age-appropriate music\, faith\, and educational activities for you and your little ones to enjoy! Join us every 2nd Wednesday of the month at 11 am in the Nativity of Mary Parish Hall for some fun! Please use the 40 HWY entrance to the Parish Hall. Directional signs available on campus. Check us out at </span><a href="https://l.facebook.com/l.php?u=https%3A%2F%2Fwww.nativityofmary.org%2Fjammin%3Ffbclid%3DIwAR0xTY6P7hQ2KSwHS4MCzclbb2X8e1s2dAP9cH5gNcyGC4FQuuc89Cs4948&amp\;h=AT1A1FgacUWf-J-LstQIw-KZ546DjvI3ethUG5_3Or5W9w3obFo4U9JORDRMzRfksotqNDfvx4_RzN9SV7RZiuYoLTUl7pF0LT2W20jZRyZf4rS-yswxMWZ-iEKf9kRD4knRcxtVHSIkqy9UO4X9zET2cw" rel="nofollow noopener" style="color: rgb(54\, 88\, 153)\; cursor: pointer\; text-decoration-line: none\; font-family: system-ui\, -apple-system\, system-ui\, &quot\;.SFNSText-Regular&quot\;\, sans-serif\; font-size: 14px\; white-space: pre-wrap\;" target="_blank">https://www.nativityofmary.org/jammin</a><span style="color:rgb(29\, 33\, 41)\; font-family:system-ui\,-apple-system\,system-ui\,.sfnstext-regular\,sans-serif\; font-size:14px">. </span>
LOCATION:Nativity of Mary Parish Hall 10021 E 36th Terrace Independence\, MO. 64052
UID:e.2043.9035
SEQUENCE:3
DTSTAMP:20260424T235459Z
URL:https://business.ichamber.biz/events/details/jammin-with-jesus-a-ministry-for-birth-3-year-olds-05-08-2019-9035
END:VEVENT

END:VCALENDAR
