BEGIN:VCALENDAR
VERSION:2.0
PRODID:-//ChamberMaster//Event Calendar 2.0//EN
METHOD:PUBLISH
X-PUBLISHED-TTL:P3D
REFRESH-INTERVAL:P3D
CALSCALE:GREGORIAN
BEGIN:VEVENT
DTSTART:20190428T223000Z
DTEND:20190429T003000Z
X-MICROSOFT-CDO-ALLDAYEVENT:FALSE
SUMMARY:KC Bier Trivia
DESCRIPTION:Sharpen up your trivia knowledge! Developing Potential is partnering with KC Bier\, Co. to host a trivia night. Gift baskets will be put together by DPI families\, staff\, and KC Bier. There will also be food\, drinks\, and 50/50 raffle. Gather a team or sign up as an individual!\n\n\n\n?Proceeds from this event will go towards Developing Potential's Capital Campaign to build a community style building.\n\n\n\n?For more information\, please contact Amy Cox at acox@developingpotential.org or 816-525-6000 ext. 107.
X-ALT-DESC;FMTTYPE=text/html:Sharpen up your trivia knowledge! Developing Potential is partnering with KC Bier\, Co. to host a trivia night. Gift baskets will be put together by DPI families\, staff\, and KC Bier. There will also be food\, drinks\, and 50/50 raffle. Gather a team or sign up as an individual!<br />\n<br />\n?Proceeds from this event will go towards Developing Potential&#39\;s Capital Campaign to build a community style building.<br />\n<br />\n?For more information\, please contact Amy Cox at acox@developingpotential.org or 816-525-6000 ext. 107.
LOCATION:KC Bier\, Co. 310 W. 79th Street Kansas City\, MO
UID:e.2043.9287
SEQUENCE:3
DTSTAMP:20260424T223606Z
URL:https://business.ichamber.biz/events/details/kc-bier-trivia-9287
END:VEVENT

END:VCALENDAR
