BEGIN:VCALENDAR
VERSION:2.0
PRODID:-//ChamberMaster//Event Calendar 2.0//EN
METHOD:PUBLISH
X-PUBLISHED-TTL:P3D
REFRESH-INTERVAL:P3D
CALSCALE:GREGORIAN
BEGIN:VEVENT
DTSTART:20170828T210000Z
DTEND:20170828T220000Z
X-MICROSOFT-CDO-ALLDAYEVENT:FALSE
SUMMARY:KCI Airport Initiative Presentation
DESCRIPTION:We hope you can join us for a presentation regarding the KC Single Terminal Airport initiative on Monday\, August 28th at 4:00 pm. \n\n\n\nBelow are a few facts about this initiative to expand the KCI Single Terminal Airport:\n\n	11 million people moved through KCI last year.  Imagine that many people through the 36 foot deep post-security area.\n	The airline operations downstairs is out of space\; there's nowhere to expand.  In 2005\, KCI had 2 more SWA departures than St Louis.  Today St.Louis has 30 more than KCI and St. Louis has a higher cost per passenger.  The airline wants to grow here\, but they can't.\n	When KCI was built\, airplanes carried 80 people and the airport was completely wide open.  Today's jets carry 145-175 people and\, post 9-11\, our gate areas are smaller.  It's not a square footage issue\, it's a layout issue.\n	Lastly and most important\, no matter what financing plan the City of Kansas City chooses\, only those who fly will pay for a new terminal.  There is not a  property tax increase associated with this project.
X-ALT-DESC;FMTTYPE=text/html:<span style="color:#000000\;"><span style="font-family:arial\;"><span style="font-size:14px\;">We hope you can join us for a presentation&nbsp\;regarding the KC Single Terminal Airport initiative on Monday\, August 28th&nbsp\;at 4:00 pm.&nbsp\;<br />\n<br />\nBelow are a few facts about this&nbsp\;initiative to expand the KCI Single Terminal Airport:</span></span></span>\n<ul>\n	<li><span style="color:#000000\;"><span style="font-family:arial\;"><span style="font-size:14px\;">11 million people moved through KCI last year.&nbsp\; Imagine that many people through the 36 foot deep post-security area.</span></span></span></li>\n	<li><span style="color:#000000\;"><span style="font-family:arial\;"><span style="font-size:14px\;"><span style="font-size:14px\;">The airline operations downstairs is out of space\; there&#39\;s nowhere to expand.&nbsp\; In 2005\, KCI had 2 more SWA departures than St Louis.&nbsp\; Today St.Louis has 30 more than KCI and St. Louis has a higher cost per passenger.&nbsp\; The airline&nbsp\;wants to grow here\, but they can&#39\;t.</span></span></span></span></li>\n	<li><span style="color:#000000\;"><span style="font-family:arial\;"><span style="font-size:14px\;"><span style="font-size:14px\;"><span style="font-size:14px\;">When KCI was built\, airplanes carried 80 people and the airport was completely wide open.&nbsp\; Today&#39\;s jets carry 145-175 people and\, post 9-11\, our gate areas are smaller.&nbsp\; It&#39\;s not a square footage issue\, it&#39\;s a layout issue.</span></span></span></span></span></li>\n	<li><span style="color:#000000\;"><span style="font-family:arial\;"><span style="font-size:14px\;">Lastly and most important\, no matter what financing plan the City of Kansas City chooses\, only those who fly will pay for a new terminal.&nbsp\; There is not a &nbsp\;property tax increase associated with this project.&nbsp\;</span></span></span></li>\n</ul>\n<br />\n<br />\n&nbsp\;
LOCATION:Independence Chamber of Commerce Boardroom 210 W. Truman Rd. Independence\, MO 64050
UID:e.2043.5270
SEQUENCE:3
DTSTAMP:20260424T113539Z
URL:https://business.ichamber.biz/events/details/kci-airport-initiative-presentation-08-28-2017-5270
END:VEVENT

END:VCALENDAR
