BEGIN:VCALENDAR
VERSION:2.0
PRODID:-//ChamberMaster//Event Calendar 2.0//EN
METHOD:PUBLISH
X-PUBLISHED-TTL:P3D
REFRESH-INTERVAL:P3D
CALSCALE:GREGORIAN
BEGIN:VEVENT
DTSTART:20190226T160000Z
DTEND:20190227T010000Z
X-MICROSOFT-CDO-ALLDAYEVENT:FALSE
SUMMARY:Kiwanis Annual Chili Day
DESCRIPTION:Kiwanis Annual Chili Day is set for Tuesday\, February 26\, 2019 from 10 a.m. to 7 p.m. at Stone Church\, 1021 W. Lexington/River Rd.\, Independence-just off the Square.  For $8\, dine-in will include homemade chili\, pie and a drink.  There is also take-out and delivery. \n\n \n\nThank you to our Premier Sponsor\, "Edward Jones" Michael Rowe and Corey Long and to our Chili Champions\, Scott Roberson\, DDS\, McDonald Auto Body and Cruise Planners.\n\n \n\n"This is our primary fund raiser\," said Mary House\, president of the Kiwanis Club of Independence. "Our chili is based on an old 'secret' recipe that was used in the Independence School District in the 1940s.  Our recipe hasn't changed much since then.  It's still great.  And all proceeds go to community youth activities and youth organizations."\n\n \n\nFor further information\, 816-877-1405 or http://www.independencekiwanisclub.org or like us on Facebook.\n\n \n\nKiwanis is a global organization of volunteers dedicated to changing the world one child and one community at a time.
X-ALT-DESC;FMTTYPE=text/html:Kiwanis Annual Chili Day is set for Tuesday\, February 26\, 2019 from 10 a.m. to 7 p.m. at Stone Church\, 1021 W. Lexington/River Rd.\, Independence-just off the Square.&nbsp\; For $8\, dine-in will include homemade chili\, pie and a drink.&nbsp\; There is also take-out and delivery.&nbsp\;<br />\n&nbsp\;<br />\nThank you to our Premier Sponsor\, &quot\;Edward Jones&quot\; Michael Rowe and Corey Long and to our Chili Champions\, Scott Roberson\, DDS\, McDonald Auto Body and Cruise Planners.<br />\n&nbsp\;<br />\n&quot\;This is our primary fund raiser\,&quot\; said Mary House\, president of the Kiwanis Club of Independence. &quot\;Our chili is based on an old &#39\;secret&#39\; recipe that was used in the Independence School District in the 1940s.&nbsp\; Our recipe hasn&#39\;t changed much since then.&nbsp\; It&#39\;s still great.&nbsp\; And all proceeds go to community youth activities and youth organizations.&quot\;<br />\n&nbsp\;<br />\nFor further information\, 816-877-1405 or http://www.independencekiwanisclub.org or like us on Facebook.<br />\n&nbsp\;<br />\nKiwanis is a global organization of volunteers dedicated to changing the world one child and one community at a time.
LOCATION:Stone Church 1021 W Lexington Independence\, MO 64050
UID:e.2043.9057
SEQUENCE:3
DTSTAMP:20260424T200112Z
URL:https://business.ichamber.biz/events/details/kiwanis-annual-chili-day-9057
END:VEVENT

END:VCALENDAR
