BEGIN:VCALENDAR
VERSION:2.0
PRODID:-//ChamberMaster//Event Calendar 2.0//EN
METHOD:PUBLISH
X-PUBLISHED-TTL:P3D
REFRESH-INTERVAL:P3D
CALSCALE:GREGORIAN
BEGIN:VEVENT
DTSTART:20190504T210000Z
DTEND:20190505T030000Z
X-MICROSOFT-CDO-ALLDAYEVENT:FALSE
SUMMARY:KS Food Truck Festival
DESCRIPTION:Join us at the annual food truck festival in Lawrence\, Kansas featuring dozens of regional food truck with cuisine from accross the world\, live music & entertainment\, inflatables\, and much more!!!
X-ALT-DESC;FMTTYPE=text/html:Join us at the annual food truck festival in Lawrence\, Kansas featuring dozens of regional food truck with cuisine from accross the world\, live music &amp\; entertainment\, inflatables\, and much more!!!
LOCATION:Warehouse Arts District begining at 9TH & PENNSYLVANIA STREETS IN LAWRENCE\, KANSAS & PENNSYLVANIA STREETS IN LAWRENCE\, KANSAS
UID:e.2043.9508
SEQUENCE:3
DTSTAMP:20260424T235537Z
URL:https://business.ichamber.biz/events/details/ks-food-truck-festival-9508
END:VEVENT

END:VCALENDAR
