BEGIN:VCALENDAR
VERSION:2.0
PRODID:-//ChamberMaster//Event Calendar 2.0//EN
METHOD:PUBLISH
X-PUBLISHED-TTL:P3D
REFRESH-INTERVAL:P3D
CALSCALE:GREGORIAN
BEGIN:VEVENT
DTSTART:20161202T173000Z
DTEND:20161202T190000Z
X-MICROSOFT-CDO-ALLDAYEVENT:FALSE
SUMMARY:LEAD Alumni Holiday Lunch
DESCRIPTION:It's the much anticipated and enjoyed LEAD Alumni Holiday luncheon. Join us for fun\, fellowship and prizes!\n\n\n\nWhen you register you will be able to choose your meal. \n\n\n\nThis years menu:\n\n\n\n*Prosciutto-wrapped Pork Tenderloin: Medallions wrapped in prosciutto\, wood fired and topped with port wine fig sauce.\n\n\n\n*Lasagna: Pasta layered with our Pomodoro sauce\, meat sauce\, ricotta\, Romano and mozzarella cheese.\n\n\n\n*Caesar Salad with Wood-Grilled Chicken: Wood-grilled chicken served with romaine hearts\, croutons\, parmesan cheese and Caesar dressing. \n\n\n\n***includes non-alcoholic drink\, salad\, bread and cannoli dessert
X-ALT-DESC;FMTTYPE=text/html:<span style="font-family:arial\;"><span style="font-size:14px\;">It&#39\;s the much anticipated and enjoyed LEAD Alumni Holiday luncheon. Join us for fun\, fellowship and prizes!<br />\n<br />\nWhen you register you will be able to choose your meal.&nbsp\;<br />\n<br />\nThis years menu:</span><br />\n<br />\n<span style="font-size:14px\;">*Prosciutto-wrapped Pork Tenderloin: Medallions wrapped in prosciutto\, wood fired and topped with port wine fig sauce.<br />\n<br />\n*Lasagna:&nbsp\;Pasta layered with our Pomodoro sauce\, meat sauce\, ricotta\, Romano and mozzarella cheese.<br />\n<br />\n*Caesar Salad with Wood-Grilled Chicken: Wood-grilled chicken served with romaine hearts\, croutons\, parmesan cheese and Caesar dressing.&nbsp\;<br />\n<br />\n***includes non-alcoholic drink\, salad\, bread and cannoli dessert</span></span>
LOCATION:Carrabba's Italian Grill 19900 E Valley View Pkwy Independence MO 64055
UID:e.2043.3597
SEQUENCE:3
DTSTAMP:20260424T222344Z
URL:https://business.ichamber.biz/events/details/lead-alumni-holiday-lunch-12-02-2016-3597
END:VEVENT

END:VCALENDAR
