BEGIN:VCALENDAR
VERSION:2.0
PRODID:-//ChamberMaster//Event Calendar 2.0//EN
METHOD:PUBLISH
X-PUBLISHED-TTL:P3D
REFRESH-INTERVAL:P3D
CALSCALE:GREGORIAN
BEGIN:VEVENT
DTSTART:20171207T173000Z
DTEND:20171207T190000Z
X-MICROSOFT-CDO-ALLDAYEVENT:FALSE
SUMMARY:LEAD Alumni Holiday Lunch
DESCRIPTION:It's time for the always festive LEAD Alumni Holiday Luncheon & Reunion at Carrabba's.  Fellowship\, Fun\, and Prizes plus meet the class of 2018!\n\n\n\nWhen you register you will be able to choose from:\n\n	Prosciutto-wrapped Pork Tenderloin: Medallions wrapped in prosciutto\, wood-fired and topped with port wine fig sauce with  mashed potatoes  \n\n \n\n\n	Lasagna: Pasta layered with our Pomodoro sauce\, meat sauce\, ricotta\, Romano and mozzarella cheese with Caesar salad\n\n \n\n\n	Caesar Salad with Wood-Grilled Chicken: Wood-grilled chicken served with romaine hearts\, croutons\, parmesan cheese and Caesar dressing along with chicken soup\n\n\n\n*Includes non-alcoholic drink\, bread\, and dessert
X-ALT-DESC;FMTTYPE=text/html:<strong>It&#39\;s time for the always festive LEAD Alumni Holiday Luncheon &amp\; Reunion at Carrabba&rsquo\;s.&nbsp\; Fellowship\, Fun\, and Prizes plus meet the class of 2018!</strong><br />\n<br />\nWhen you register you will be able to choose from:\n<ul>\n	<li>Prosciutto-wrapped Pork Tenderloin: Medallions wrapped in prosciutto\, wood-fired and topped with port wine fig sauce with&nbsp\; mashed potatoes&nbsp\;&nbsp\;</li>\n</ul>\n&nbsp\;\n\n<ul>\n	<li>Lasagna: Pasta layered with our Pomodoro sauce\, meat sauce\, ricotta\, Romano and mozzarella cheese with Caesar salad</li>\n</ul>\n&nbsp\;\n\n<ul>\n	<li>Caesar Salad with Wood-Grilled Chicken: Wood-grilled chicken served with romaine hearts\, croutons\, parmesan cheese and Caesar dressing along with&nbsp\;chicken soup</li>\n</ul>\n<br />\n*Includes non-alcoholic drink\, bread\, and dessert<br />\n<br />\n<br />\n&nbsp\;
LOCATION:Carrabba's Italian Grill 19900 E Valley View Pkwy Independence MO 64055
UID:e.2043.5484
SEQUENCE:3
DTSTAMP:20260424T055314Z
URL:https://business.ichamber.biz/events/details/lead-alumni-holiday-lunch-12-07-2017-5484
END:VEVENT

END:VCALENDAR
