BEGIN:VCALENDAR
VERSION:2.0
PRODID:-//ChamberMaster//Event Calendar 2.0//EN
METHOD:PUBLISH
X-PUBLISHED-TTL:P3D
REFRESH-INTERVAL:P3D
CALSCALE:GREGORIAN
BEGIN:VEVENT
DTSTART:20251205T173000Z
DTEND:20251205T190000Z
X-MICROSOFT-CDO-ALLDAYEVENT:FALSE
SUMMARY:LEAD Alumni Holiday Lunch
DESCRIPTION:Hey L.E.A.D. Alum! Join us for some holiday cheer at the L.E.A.D. Alumni Holiday luncheon! There will be some lovely door prizes so don't forget to bring your business card! Please choose which meal you will want in our fees drop down menu.\n\nHere are your meal options:\n\n\n	Shrimp Scampi\n	Stuffed Chicken Marsala\n	Tour of Italy\n	6 oz Sirloin\n	Spaghetti & Meatballs\n\nMeals include soup or salad\, breadsticks\, and a non-alcoholic beverage\n\n\n\nMake sure to register by December 2nd!
X-ALT-DESC;FMTTYPE=text/html:<br />\n<span style="font-size:16px\;"><span style="font-family:arial\;">Hey L.E.A.D. Alum! Join us for some holiday cheer at the L.E.A.D. Alumni Holiday luncheon! There will be some lovely door prizes so don&#39\;t forget to bring your business card! Please choose which meal you will want in our fees drop down menu.<br />\nHere are your meal options:</span></span>\n\n<ul>\n	<li><!--StartFragment--><span style="font-size:16px\;"><span style="font-family:arial\;"><span data-olk-copy-source="MessageBody">Shrimp Scampi</span></span></span></li>\n	<li><span style="font-size:16px\;"><span style="font-family:arial\;"><span data-olk-copy-source="MessageBody">Stuffed Chicken Marsala</span></span></span></li>\n	<li><span style="font-size:16px\;"><span style="font-family:arial\;"><span data-olk-copy-source="MessageBody">Tour of Italy</span></span></span></li>\n	<li><span style="font-size:16px\;"><span style="font-family:arial\;"><span data-olk-copy-source="MessageBody">6 oz Sirloin</span></span></span></li>\n	<li><span style="font-size:16px\;"><span style="font-family:arial\;"><span data-olk-copy-source="MessageBody">Spaghetti &amp\; Meatballs</span></span></span><!--EndFragment--></li>\n</ul>\n<span style="font-size:16px\;"><span style="font-family:arial\;">Meals include&nbsp\;<span data-olk-copy-source="MessageBody">soup or salad\, breadsticks\, and a non-alcoholic beverage</span></span></span><br />\n<!--EndFragment--><br />\n<span style="font-size:16px\;"><span style="font-family:arial\;">Make sure to register by December 2nd!</span></span>
LOCATION:Olive Garden Italian Restaurant 13910 E US Hwy 40\, Independence\, MO 64055
UID:e.2043.19704
SEQUENCE:3
DTSTAMP:20260425T204418Z
URL:https://business.ichamber.biz/events/details/lead-alumni-holiday-lunch-19704
END:VEVENT

END:VCALENDAR
