BEGIN:VCALENDAR
VERSION:2.0
PRODID:-//ChamberMaster//Event Calendar 2.0//EN
METHOD:PUBLISH
X-PUBLISHED-TTL:P3D
REFRESH-INTERVAL:P3D
CALSCALE:GREGORIAN
BEGIN:VEVENT
DTSTART:20151204T173000Z
DTEND:20151204T190000Z
X-MICROSOFT-CDO-ALLDAYEVENT:FALSE
SUMMARY:LEAD Holiday Lunch
DESCRIPTION:It's Annual Holiday Party time again!  Join fellow LEAD Alumni and members of the current class for camaraderie and Christmas cheer. It is always so much fun to get everyone together to visit and enjoy some great food from Carrabba's. RSVP ahead to be eligible for some great door prizes.
X-ALT-DESC;FMTTYPE=text/html:<span style="color: rgba(0\, 0\, 0\, 0.6)\; font-family: 'Benton Sans'\, 'Helvetica Neue'\, Helvetica\, Roboto\, Arial\, sans-serif\; font-size: 15px\; letter-spacing: 0.5px\; line-height: 22px\; background-color: rgb(255\, 255\, 255)\;">It&#39\;s Annual Holiday Party time again! &nbsp\;Join fellow LEAD Alumni and members&nbsp\;of the current class for camaraderie and Christmas cheer. It is always so much fun to get everyone together to visit and enjoy some great food from Carrabba&#39\;s. RSVP ahead to be eligible for some great door prizes.&nbsp\;</span>
LOCATION:Carrabba's Italian Grill 19900 Valley View Pkwy Independence MO 64057
UID:e.2043.2725
SEQUENCE:3
DTSTAMP:20260425T101757Z
URL:https://business.ichamber.biz/events/details/lead-holiday-lunch-12-04-2015-2725
END:VEVENT

END:VCALENDAR
